BEGIN:VCALENDAR
VERSION:2.0
PRODID:-//Sustainable Princeton - ECPv6.15.17//NONSGML v1.0//EN
CALSCALE:GREGORIAN
METHOD:PUBLISH
X-ORIGINAL-URL:https://www.sustainableprinceton.org
X-WR-CALDESC:Events for Sustainable Princeton
REFRESH-INTERVAL;VALUE=DURATION:PT1H
X-Robots-Tag:noindex
X-PUBLISHED-TTL:PT1H
BEGIN:VTIMEZONE
TZID:America/New_York
BEGIN:DAYLIGHT
TZOFFSETFROM:-0500
TZOFFSETTO:-0400
TZNAME:EDT
DTSTART:20230312T070000
END:DAYLIGHT
BEGIN:STANDARD
TZOFFSETFROM:-0400
TZOFFSETTO:-0500
TZNAME:EST
DTSTART:20231105T060000
END:STANDARD
BEGIN:DAYLIGHT
TZOFFSETFROM:-0500
TZOFFSETTO:-0400
TZNAME:EDT
DTSTART:20240310T070000
END:DAYLIGHT
BEGIN:STANDARD
TZOFFSETFROM:-0400
TZOFFSETTO:-0500
TZNAME:EST
DTSTART:20241103T060000
END:STANDARD
BEGIN:DAYLIGHT
TZOFFSETFROM:-0500
TZOFFSETTO:-0400
TZNAME:EDT
DTSTART:20250309T070000
END:DAYLIGHT
BEGIN:STANDARD
TZOFFSETFROM:-0400
TZOFFSETTO:-0500
TZNAME:EST
DTSTART:20251102T060000
END:STANDARD
END:VTIMEZONE
BEGIN:VEVENT
DTSTART;TZID=America/New_York:20240228T190000
DTEND;TZID=America/New_York:20240228T203000
DTSTAMP:20260419T112119
CREATED:20240104T191632Z
LAST-MODIFIED:20240104T191632Z
UID:10000004-1709146800-1709152200@www.sustainableprinceton.org
SUMMARY:It's Electrifying! Class 2: Electrify Your Home
DESCRIPTION:Learn about how you can electrify your home and help reduce carbon dioxide in the atmosphere. In this four-part series\, you’ll learn about the problems with fossil fuels\, the solutions available\, and look to the future\, with the rapid growth in solar panel installations\, how a smart grid will allow you to generate and share electric power across your state and beyond\, and more. This series is presented in cooperation with the Princeton Adult School. \nElectrification Overview -You may have heard the phrase “Electrify everything!” as a must-do to keep global emissions below the threshold needed to maintain a livable climate. What does “electrify everything” mean\, and what are the implications for renewable energy\, the electrical grid\, local emissions\, and households? What role does community solar play? \nElectrify Your Home -Learn about why you should electrify your home\, how to do it\, where to start\, and what makes sense for you. The class will include an overview of the technologies\, such as heat pumps\, induction ranges\, heat pump clothes dryers and water heaters\, as well as strategies for planning and financing. \nHow You Can Become Your Own Power Plant  – Solar is one of our major renewable energy sources. It is versatile\, clean and you can build a small power plant on your roof! With the current state and federal incentives\, “Going Solar” is cost-effective; but it can be complicated. In this class we will cover: how solar works\, permits\, how to connect to the grid and remain with your electric utility company\, how to estimate system size\, energy needs\, cost and simple payback\, how to apply for state and federal incentives\, and how to find qualified contractors. We will also discuss various options for solar storage and how to link your solar to other clean energy options to help reach 100% clean energy. \nDemystifying Electric Vehicles  – The class will introduce electric vehicles\, including topics such as battery electric vehicles versus plug-in hybrids\, a survey of the numerous makes and models and vehicle types (sedans\, crossovers\, pickup trucks)\, driving ranges\, charging times\, public charging networks\, environmental\, health and national security benefits\, government cash and tax credit incentives\, total cost of ownership (including home chargers) and living with an electric vehicle.\n\nPurchase all four It’s Electrifying classes (110A-110D) for $115 and save $25. Use course 110E to register for package!
URL:https://www.sustainableprinceton.org/event/its-electrifying-class-2-electrify-your-home/
LOCATION:Virtual
ATTACH;FMTTYPE=image/png:https://www.sustainableprinceton.org/wp-content/uploads/2024/01/3a3704ea-ed8a-fa33-68a3-8bdb873d9122.png
END:VEVENT
BEGIN:VEVENT
DTSTART;TZID=America/New_York:20240228T190000
DTEND;TZID=America/New_York:20240228T203000
DTSTAMP:20260419T112119
CREATED:20240104T191632Z
LAST-MODIFIED:20240104T191632Z
UID:10000052-1709146800-1709152200@www.sustainableprinceton.org
SUMMARY:It's Electrifying! Class 2: Electrify Your Home
DESCRIPTION:Learn about how you can electrify your home and help reduce carbon dioxide in the atmosphere. In this four-part series\, you’ll learn about the problems with fossil fuels\, the solutions available\, and look to the future\, with the rapid growth in solar panel installations\, how a smart grid will allow you to generate and share electric power across your state and beyond\, and more. This series is presented in cooperation with the Princeton Adult School. \nElectrification Overview -You may have heard the phrase “Electrify everything!” as a must-do to keep global emissions below the threshold needed to maintain a livable climate. What does “electrify everything” mean\, and what are the implications for renewable energy\, the electrical grid\, local emissions\, and households? What role does community solar play? \nElectrify Your Home -Learn about why you should electrify your home\, how to do it\, where to start\, and what makes sense for you. The class will include an overview of the technologies\, such as heat pumps\, induction ranges\, heat pump clothes dryers and water heaters\, as well as strategies for planning and financing. \nHow You Can Become Your Own Power Plant  – Solar is one of our major renewable energy sources. It is versatile\, clean and you can build a small power plant on your roof! With the current state and federal incentives\, “Going Solar” is cost-effective; but it can be complicated. In this class we will cover: how solar works\, permits\, how to connect to the grid and remain with your electric utility company\, how to estimate system size\, energy needs\, cost and simple payback\, how to apply for state and federal incentives\, and how to find qualified contractors. We will also discuss various options for solar storage and how to link your solar to other clean energy options to help reach 100% clean energy. \nDemystifying Electric Vehicles  – The class will introduce electric vehicles\, including topics such as battery electric vehicles versus plug-in hybrids\, a survey of the numerous makes and models and vehicle types (sedans\, crossovers\, pickup trucks)\, driving ranges\, charging times\, public charging networks\, environmental\, health and national security benefits\, government cash and tax credit incentives\, total cost of ownership (including home chargers) and living with an electric vehicle.\n\nPurchase all four It’s Electrifying classes (110A-110D) for $115 and save $25. Use course 110E to register for package!
URL:https://www.sustainableprinceton.org/event/its-electrifying-class-2-electrify-your-home-2/
LOCATION:Virtual
ATTACH;FMTTYPE=image/png:https://www.sustainableprinceton.org/wp-content/uploads/2024/01/3a3704ea-ed8a-fa33-68a3-8bdb873d9122.png
END:VEVENT
END:VCALENDAR