BEGIN:VCALENDAR
VERSION:2.0
PRODID:-//Sustainable Princeton - ECPv6.15.17//NONSGML v1.0//EN
CALSCALE:GREGORIAN
METHOD:PUBLISH
X-ORIGINAL-URL:https://www.sustainableprinceton.org
X-WR-CALDESC:Events for Sustainable Princeton
REFRESH-INTERVAL;VALUE=DURATION:PT1H
X-Robots-Tag:noindex
X-PUBLISHED-TTL:PT1H
BEGIN:VTIMEZONE
TZID:America/New_York
BEGIN:DAYLIGHT
TZOFFSETFROM:-0500
TZOFFSETTO:-0400
TZNAME:EDT
DTSTART:20230312T070000
END:DAYLIGHT
BEGIN:STANDARD
TZOFFSETFROM:-0400
TZOFFSETTO:-0500
TZNAME:EST
DTSTART:20231105T060000
END:STANDARD
BEGIN:DAYLIGHT
TZOFFSETFROM:-0500
TZOFFSETTO:-0400
TZNAME:EDT
DTSTART:20240310T070000
END:DAYLIGHT
BEGIN:STANDARD
TZOFFSETFROM:-0400
TZOFFSETTO:-0500
TZNAME:EST
DTSTART:20241103T060000
END:STANDARD
BEGIN:DAYLIGHT
TZOFFSETFROM:-0500
TZOFFSETTO:-0400
TZNAME:EDT
DTSTART:20250309T070000
END:DAYLIGHT
BEGIN:STANDARD
TZOFFSETFROM:-0400
TZOFFSETTO:-0500
TZNAME:EST
DTSTART:20251102T060000
END:STANDARD
END:VTIMEZONE
BEGIN:VEVENT
DTSTART;TZID=America/New_York:20240309T100000
DTEND;TZID=America/New_York:20240309T160000
DTSTAMP:20260419T161226
CREATED:20240112T164337Z
LAST-MODIFIED:20240308T171432Z
UID:10000007-1709978400-1710000000@www.sustainableprinceton.org
SUMMARY:Princeton Sustainable Home Expo
DESCRIPTION:Thinking about switching to a heat pump? Looking to install an EV charger? Meet local\, vetted\, sustainably-minded home-improvement professionals\, and get your questions answered all under one roof! \nThe Princeton Sustainable Home Expo will take place at the Suzanne Patterson in Princeton on Saturday\, March 9\, from 10 AM- 4 PM. Stop in anytime to talk directly with contractors\, solar installers\, sustainable landscapers\, homeowners\, and renters! \nConfirmed vendors and organizations: \n\nBlue Sky Green Earth All-Electric Landscaping\nDogwood Lawn Services\nThe Watershed Institute\nRutgers Master Gardners of Mercer County\nExact Solar\nParadise Solar\nSolar Me\nNJ Clean Energy Program\nOne Compost Can\nPrinceton Home Connections\nTom Pinneo Construction\nC. Raymond Davis & Sons\nPSE&G\nBryan Electric\nPrinceton Air\nArctic Air\nPassive House Network\n\nYou will also have the opportunity to speak directly with the Princeton Environmental Commission\, the Historic Preservation Commission\, and the municipality to answer any questions you may have about permits\, papers\, or checklists! \n \nBring the kids! We will have a supervised playroom with sustainable games and crafts! \nJoin us at the Princeton Sustainable Home Expo and be part of the movement toward a greener\, cleaner\, and more sustainable community! \nCheck back as we update our list of confirmed vendors!
URL:https://www.sustainableprinceton.org/event/princeton-sustainable-home-expo/
LOCATION:Suzanne Patterson Center\, 45 Stockton St\, Princeton\, NJ\, 08540\, United States
ATTACH;FMTTYPE=image/jpeg:https://www.sustainableprinceton.org/wp-content/uploads/2024/01/SUSTAINABLE-HOME-EXPO-EVENT-HEADER-IMAGE.jpg
END:VEVENT
BEGIN:VEVENT
DTSTART;TZID=America/New_York:20240309T100000
DTEND;TZID=America/New_York:20240309T160000
DTSTAMP:20260419T161226
CREATED:20240112T164337Z
LAST-MODIFIED:20240112T164337Z
UID:10000055-1709978400-1710000000@www.sustainableprinceton.org
SUMMARY:Princeton Sustainable Home Expo
DESCRIPTION:Thinking about switching to a heat pump? Looking to install an EV charger? Meet local\, vetted\, sustainably-minded home-improvement professionals\, and get your questions answered all under one roof! \nThe Princeton Sustainable Home Expo will take place at the Suzanne Patterson in Princeton on Saturday\, March 9\, from 10 AM- 4 PM. Stop in anytime to talk directly with contractors\, solar installers\, sustainable landscapers\, homeowners\, and renters! \nConfirmed vendors and organizations: \n\nBlue Sky Green Earth All-Electric Landscaping\nDogwood Lawn Services\nThe Watershed Institute\nRutgers Master Gardners of Mercer County\nExact Solar\nParadise Solar\nSolar Me\nNJ Clean Energy Program\nOne Compost Can\nPrinceton Home Connections\nTom Pinneo Construction\nC. Raymond Davis & Sons\nPSE&G\nBryan Electric\nPrinceton Air\nArctic Air\nPassive House Network\n\nYou will also have the opportunity to speak directly with the Princeton Environmental Commission\, the Historic Preservation Commission\, and the municipality to answer any questions you may have about permits\, papers\, or checklists! \n \nBring the kids! We will have a supervised playroom with sustainable games and crafts! \nJoin us at the Princeton Sustainable Home Expo and be part of the movement toward a greener\, cleaner\, and more sustainable community! \nCheck back as we update our list of confirmed vendors!
URL:https://www.sustainableprinceton.org/event/princeton-sustainable-home-expo-2/
LOCATION:Suzanne Patterson Center\, 45 Stockton St\, Princeton\, NJ\, 08540\, United States
ATTACH;FMTTYPE=image/jpeg:https://www.sustainableprinceton.org/wp-content/uploads/2024/01/SUSTAINABLE-HOME-EXPO-EVENT-HEADER-IMAGE.jpg
END:VEVENT
END:VCALENDAR