BEGIN:VCALENDAR
VERSION:2.0
PRODID:-//Sustainable Princeton - ECPv6.15.17//NONSGML v1.0//EN
CALSCALE:GREGORIAN
METHOD:PUBLISH
X-WR-CALNAME:Sustainable Princeton
X-ORIGINAL-URL:https://www.sustainableprinceton.org
X-WR-CALDESC:Events for Sustainable Princeton
REFRESH-INTERVAL;VALUE=DURATION:PT1H
X-Robots-Tag:noindex
X-PUBLISHED-TTL:PT1H
BEGIN:VTIMEZONE
TZID:America/New_York
BEGIN:DAYLIGHT
TZOFFSETFROM:-0500
TZOFFSETTO:-0400
TZNAME:EDT
DTSTART:20230312T070000
END:DAYLIGHT
BEGIN:STANDARD
TZOFFSETFROM:-0400
TZOFFSETTO:-0500
TZNAME:EST
DTSTART:20231105T060000
END:STANDARD
BEGIN:DAYLIGHT
TZOFFSETFROM:-0500
TZOFFSETTO:-0400
TZNAME:EDT
DTSTART:20240310T070000
END:DAYLIGHT
BEGIN:STANDARD
TZOFFSETFROM:-0400
TZOFFSETTO:-0500
TZNAME:EST
DTSTART:20241103T060000
END:STANDARD
BEGIN:DAYLIGHT
TZOFFSETFROM:-0500
TZOFFSETTO:-0400
TZNAME:EDT
DTSTART:20250309T070000
END:DAYLIGHT
BEGIN:STANDARD
TZOFFSETFROM:-0400
TZOFFSETTO:-0500
TZNAME:EST
DTSTART:20251102T060000
END:STANDARD
END:VTIMEZONE
BEGIN:VEVENT
DTSTART;TZID=America/New_York:20240414T130000
DTEND;TZID=America/New_York:20240414T150000
DTSTAMP:20260419T160234
CREATED:20240326T215409Z
LAST-MODIFIED:20240326T215718Z
UID:10000012-1713099600-1713106800@www.sustainableprinceton.org
SUMMARY:EcoExperience: Foraged Flower Art with Liz Cutler (2-days)
DESCRIPTION:April 14 (1:00 – 3:00 PM) (foraging and pressing) \nJune 23 (1:00 – 3:00 PM) (creating arrangements) \nIn this two-session EcoExperience\, meet in the great outdoors to learn how to gather and press flowers with wilderness guide\, sustainability teacher\, and talented artist Liz Cutler in April. Later in June\, you’ll gather at Liz’s home to eat delicious plant-based hors d’oeuvres while creating your very own pressed flower art. \nGet tickets here \n  \nThank you to our supporters who pre-purchased tickets at Mission: Princeton!
URL:https://www.sustainableprinceton.org/event/ecoexperience-foraged-flower-art-with-liz-cutler-2-days/
LOCATION:Address provided to ticket holders
ATTACH;FMTTYPE=image/png:https://www.sustainableprinceton.org/wp-content/uploads/2024/03/Screenshot-2024-03-26-at-5.50.55 PM.png
END:VEVENT
BEGIN:VEVENT
DTSTART;TZID=America/New_York:20240414T130000
DTEND;TZID=America/New_York:20240414T150000
DTSTAMP:20260419T160234
CREATED:20240326T215409Z
LAST-MODIFIED:20240326T215409Z
UID:10000060-1713099600-1713106800@www.sustainableprinceton.org
SUMMARY:EcoExperience: Foraged Flower Art with Liz Cutler (2-days)
DESCRIPTION:April 14 (1:00 – 3:00 PM) (foraging and pressing) \nJune 23 (1:00 – 3:00 PM) (creating arrangements) \nIn this two-session EcoExperience\, meet in the great outdoors to learn how to gather and press flowers with wilderness guide\, sustainability teacher\, and talented artist Liz Cutler in April. Later in June\, you’ll gather at Liz’s home to eat delicious plant-based hors d’oeuvres while creating your very own pressed flower art. \nGet tickets here \n  \nThank you to our supporters who pre-purchased tickets at Mission: Princeton!
URL:https://www.sustainableprinceton.org/event/ecoexperience-foraged-flower-art-with-liz-cutler-2-days-3/
LOCATION:Address provided to ticket holders
ATTACH;FMTTYPE=image/png:https://www.sustainableprinceton.org/wp-content/uploads/2024/03/Screenshot-2024-03-26-at-5.50.55 PM.png
END:VEVENT
END:VCALENDAR