BEGIN:VCALENDAR
VERSION:2.0
PRODID:-//Sustainable Princeton - ECPv6.15.20//NONSGML v1.0//EN
CALSCALE:GREGORIAN
METHOD:PUBLISH
X-ORIGINAL-URL:https://www.sustainableprinceton.org
X-WR-CALDESC:Events for Sustainable Princeton
REFRESH-INTERVAL;VALUE=DURATION:PT1H
X-Robots-Tag:noindex
X-PUBLISHED-TTL:PT1H
BEGIN:VTIMEZONE
TZID:America/New_York
BEGIN:DAYLIGHT
TZOFFSETFROM:-0500
TZOFFSETTO:-0400
TZNAME:EDT
DTSTART:20230312T070000
END:DAYLIGHT
BEGIN:STANDARD
TZOFFSETFROM:-0400
TZOFFSETTO:-0500
TZNAME:EST
DTSTART:20231105T060000
END:STANDARD
BEGIN:DAYLIGHT
TZOFFSETFROM:-0500
TZOFFSETTO:-0400
TZNAME:EDT
DTSTART:20240310T070000
END:DAYLIGHT
BEGIN:STANDARD
TZOFFSETFROM:-0400
TZOFFSETTO:-0500
TZNAME:EST
DTSTART:20241103T060000
END:STANDARD
BEGIN:DAYLIGHT
TZOFFSETFROM:-0500
TZOFFSETTO:-0400
TZNAME:EDT
DTSTART:20250309T070000
END:DAYLIGHT
BEGIN:STANDARD
TZOFFSETFROM:-0400
TZOFFSETTO:-0500
TZNAME:EST
DTSTART:20251102T060000
END:STANDARD
END:VTIMEZONE
BEGIN:VEVENT
DTSTART;TZID=America/New_York:20240420T110000
DTEND;TZID=America/New_York:20240420T150000
DTSTAMP:20260425T081903
CREATED:20240116T201907Z
LAST-MODIFIED:20240418T183934Z
UID:10000009-1713610800-1713625200@www.sustainableprinceton.org
SUMMARY:Earth Day Celebration
DESCRIPTION:  \nParty Like It’s Your Earth Day! Celebrate Earth Day with us on Saturday\, April 20\, from 11 am – 3 pm at Morven Museum and Garden. \nECO-FRIENDLY FUN FOR EVERYONE! \n \n\nHistoric garden tours hosted by Morven Museum & Garden horticulturalists\nFood vendors: the bent spoon\, Sakrid Coffee\, Tico’s\, IQuisine\nFun activities and games hosted by Princeton Public Schools\nMeet a flock of backyard composting chickens\nYoga with Gemma from Gratitude Yoga\nMake a pinecone bird feeder with Friends of Princeton Open Space (FOPOS)\nPlay with pre-loved toys from R+K=Smiles. They will also be accepting donations of gently used toys. They welcome all donations of toys\, games\, and puzzles. However\, they do not accept video games\, stuffed animals\, or primarily fabric items such as dolls\, etc.\nLearn about Native plants and get native plant seeds from the NJ Native Plant Society\nMeet representatives from local organizations Herrontown Woods and The Cloth Option\nPurchase a local flower bouquet from Sprouts Flower truck\nPrinceton High School Biking Clubs offering maintenance and minor repairs including: patching tires\, lubricating chains\, installing bike parts (like a new tire)\, seat adjustments\, fixing rust. Please do not bring bent tires. The club cannot offer bike rebuilds.\n\nAmazing Prizes:\nFlower bouquet donated by Sprouts\, an assortment of children’s toys from R+K= Smiles\, Clean Energy Coloring Books donated by Sustainable Princeton\, and a Private Garden Tour with Morven Horticulturists donated by Morven Museum and Garden. Flower bouquet winner must be present to win! \nEarn an extra GREEN raffle ticket! Bring your own reusable utensils\, bowls\, plates\, cups and/or water bottle to use at the event. \nEvent Schedule:\nChicken Chat with Jenny – 11:00am-1:00pm\nGreen Planet Band – 11:30-2:30pm\nMorven Garden Tours – 11:30am\, 12:30pm\, 1:30pm\, 2:30pm\nAcapella group 8 Around – 12:30pm\nYoga with Gemma from Gratitude Yoga – 1-2pm\nSustainable Princeton’s Induction Cooktop Demo – 12pm\, 1pm\, 2pm\nRaffle drawing – 2:30pm (must be present to win flower bouquet!) \nHow to Get There:\nWalking and biking is encouraged\, ample bicycle parking will be on site at Morven as well as in 1 Monument Drive. \nThere will also be attendee parking available at the Municipal Building at 1 Monument Drive\, Princeton\, NJ 08540. Additional overflow parking will be available in the Seminary lot across the street. \nHeld in partnership with Morven Museum & Garden and Princeton Public Schools.
URL:https://www.sustainableprinceton.org/event/earth-day-celebration/
LOCATION:Morven Museum & Garden\, 55 Stockton Street\, Princeton\, NJ\, 08540\, United States
ATTACH;FMTTYPE=image/png:https://www.sustainableprinceton.org/wp-content/uploads/2024/01/Screenshot-2024-03-22-at-12.32.45 PM.png
END:VEVENT
BEGIN:VEVENT
DTSTART;TZID=America/New_York:20240420T110000
DTEND;TZID=America/New_York:20240420T150000
DTSTAMP:20260425T081903
CREATED:20240116T201907Z
LAST-MODIFIED:20240116T201907Z
UID:10000057-1713610800-1713625200@www.sustainableprinceton.org
SUMMARY:Earth Day Celebration
DESCRIPTION:  \nParty Like It’s Your Earth Day! Celebrate Earth Day with us on Saturday\, April 20\, from 11 am – 3 pm at Morven Museum and Garden. \nECO-FRIENDLY FUN FOR EVERYONE! \n \n\nHistoric garden tours hosted by Morven Museum & Garden horticulturalists\nFood vendors: the bent spoon\, Sakrid Coffee\, Tico’s\, IQuisine\nFun activities and games hosted by Princeton Public Schools\nMeet a flock of backyard composting chickens\nYoga with Gemma from Gratitude Yoga\nMake a pinecone bird feeder with Friends of Princeton Open Space (FOPOS)\nPlay with pre-loved toys from R+K=Smiles. They will also be accepting donations of gently used toys. They welcome all donations of toys\, games\, and puzzles. However\, they do not accept video games\, stuffed animals\, or primarily fabric items such as dolls\, etc.\nLearn about Native plants and get native plant seeds from the NJ Native Plant Society\nMeet representatives from local organizations Herrontown Woods and The Cloth Option\nPurchase a local flower bouquet from Sprouts Flower truck\nPrinceton High School Biking Clubs offering maintenance and minor repairs including: patching tires\, lubricating chains\, installing bike parts (like a new tire)\, seat adjustments\, fixing rust. Please do not bring bent tires. The club cannot offer bike rebuilds.\n\nAmazing Prizes:\nFlower bouquet donated by Sprouts\, an assortment of children’s toys from R+K= Smiles\, Clean Energy Coloring Books donated by Sustainable Princeton\, and a Private Garden Tour with Morven Horticulturists donated by Morven Museum and Garden. Flower bouquet winner must be present to win! \nEarn an extra GREEN raffle ticket! Bring your own reusable utensils\, bowls\, plates\, cups and/or water bottle to use at the event. \nEvent Schedule:\nChicken Chat with Jenny – 11:00am-1:00pm\nGreen Planet Band – 11:30-2:30pm\nMorven Garden Tours – 11:30am\, 12:30pm\, 1:30pm\, 2:30pm\nAcapella group 8 Around – 12:30pm\nYoga with Gemma from Gratitude Yoga – 1-2pm\nSustainable Princeton’s Induction Cooktop Demo – 12pm\, 1pm\, 2pm\nRaffle drawing – 2:30pm (must be present to win flower bouquet!) \nHow to Get There:\nWalking and biking is encouraged\, ample bicycle parking will be on site at Morven as well as in 1 Monument Drive. \nThere will also be attendee parking available at the Municipal Building at 1 Monument Drive\, Princeton\, NJ 08540. Additional overflow parking will be available in the Seminary lot across the street. \nHeld in partnership with Morven Museum & Garden and Princeton Public Schools.
URL:https://www.sustainableprinceton.org/event/earth-day-celebration-2/
LOCATION:Morven Museum & Garden\, 55 Stockton Street\, Princeton\, NJ\, 08540\, United States
ATTACH;FMTTYPE=image/png:https://www.sustainableprinceton.org/wp-content/uploads/2024/01/Screenshot-2024-03-22-at-12.32.45 PM.png
END:VEVENT
END:VCALENDAR