BEGIN:VCALENDAR
VERSION:2.0
PRODID:-//Sustainable Princeton - ECPv6.15.17//NONSGML v1.0//EN
CALSCALE:GREGORIAN
METHOD:PUBLISH
X-ORIGINAL-URL:https://www.sustainableprinceton.org
X-WR-CALDESC:Events for Sustainable Princeton
REFRESH-INTERVAL;VALUE=DURATION:PT1H
X-Robots-Tag:noindex
X-PUBLISHED-TTL:PT1H
BEGIN:VTIMEZONE
TZID:America/New_York
BEGIN:DAYLIGHT
TZOFFSETFROM:-0500
TZOFFSETTO:-0400
TZNAME:EDT
DTSTART:20240310T070000
END:DAYLIGHT
BEGIN:STANDARD
TZOFFSETFROM:-0400
TZOFFSETTO:-0500
TZNAME:EST
DTSTART:20241103T060000
END:STANDARD
BEGIN:DAYLIGHT
TZOFFSETFROM:-0500
TZOFFSETTO:-0400
TZNAME:EDT
DTSTART:20250309T070000
END:DAYLIGHT
BEGIN:STANDARD
TZOFFSETFROM:-0400
TZOFFSETTO:-0500
TZNAME:EST
DTSTART:20251102T060000
END:STANDARD
BEGIN:DAYLIGHT
TZOFFSETFROM:-0500
TZOFFSETTO:-0400
TZNAME:EDT
DTSTART:20260308T070000
END:DAYLIGHT
BEGIN:STANDARD
TZOFFSETFROM:-0400
TZOFFSETTO:-0500
TZNAME:EST
DTSTART:20261101T060000
END:STANDARD
END:VTIMEZONE
BEGIN:VEVENT
DTSTART;TZID=America/New_York:20250521T190000
DTEND;TZID=America/New_York:20250521T203000
DTSTAMP:20260421T171629
CREATED:20250403T184156Z
LAST-MODIFIED:20250513T203714Z
UID:10000040-1747854000-1747859400@www.sustainableprinceton.org
SUMMARY:Sustainable Minds Author Talk: Charles T. Brown
DESCRIPTION:In his new book Arrested Mobility: Overcoming the Threat to Black Movement\, Charles T.\nBrown\, founder and CEO of Equitable Cities\, examines why mobility is not afforded in the same\nway to everyone. Join him for an event where he will discuss how the freedom of movement\nfor Black Americans means confronting the harsh reality of White fear\, fragility\, and\nviolence. He will demonstrate how un-arresting mobility creates an opportunity not just for a\nbetter society for Black people\, but for all people. \n.\nHow does this relate to climate action in Princeton?\nClimate-friendly transportation\, like biking\, is critical to reducing greenhouse gas emissions in our community. The Princeton Climate Action Plan has a vision that ALL Princeton community members have access to safe\, affordable\, low-carbon housing and transportation. To make that a reality\, our community must collectively ensure our neighbors of color can participate equitably.\n\n–\nHow? Well\, this is an intersectional issue and that’s where Charles comes in.\nCharles will be talking about: \n\nBarriers to bike access and use in communities of color\nWhat we should be thinking about when implementing rules or regulations to promote e-bike safety\nHow the four P’s (Polity\, Policy\, Planning\, and Policing) affect arrested mobility and sustainability\nHow to implement green infrastructure in mindful ways\n\n\nLabrynth Books will be selling copies of Arrested Mobility for Charles to sign at the event!\nPresented in partnership with Princeton Public Library and Not In Our Town Princeton. \nRegistration is optional but encouraged here.
URL:https://www.sustainableprinceton.org/event/sustainable-minds-author-talk-charles-t-brown/
LOCATION:Princeton Public Library\, 65 Witherspoon\, Princeton\, NJ\, 08542\, United States
ATTACH;FMTTYPE=image/jpeg:https://www.sustainableprinceton.org/wp-content/uploads/2025/04/CharlesBrown-2-scaled.jpg
END:VEVENT
BEGIN:VEVENT
DTSTART;TZID=America/New_York:20250521T190000
DTEND;TZID=America/New_York:20250521T203000
DTSTAMP:20260421T171629
CREATED:20250403T184156Z
LAST-MODIFIED:20250403T184156Z
UID:10000087-1747854000-1747859400@www.sustainableprinceton.org
SUMMARY:Sustainable Minds Author Talk: Charles T. Brown
DESCRIPTION:In his new book Arrested Mobility: Overcoming the Threat to Black Movement\, Charles T.\nBrown\, founder and CEO of Equitable Cities\, examines why mobility is not afforded in the same\nway to everyone. Join him for an event where he will discuss how the freedom of movement\nfor Black Americans means confronting the harsh reality of White fear\, fragility\, and\nviolence. He will demonstrate how un-arresting mobility creates an opportunity not just for a\nbetter society for Black people\, but for all people. \n.\nHow does this relate to climate action in Princeton?\nClimate-friendly transportation\, like biking\, is critical to reducing greenhouse gas emissions in our community. The Princeton Climate Action Plan has a vision that ALL Princeton community members have access to safe\, affordable\, low-carbon housing and transportation. To make that a reality\, our community must collectively ensure our neighbors of color can participate equitably.\n\n–\nHow? Well\, this is an intersectional issue and that’s where Charles comes in.\nCharles will be talking about: \n\nBarriers to bike access and use in communities of color\nWhat we should be thinking about when implementing rules or regulations to promote e-bike safety\nHow the four P’s (Polity\, Policy\, Planning\, and Policing) affect arrested mobility and sustainability\nHow to implement green infrastructure in mindful ways\n\n\nLabrynth Books will be selling copies of Arrested Mobility for Charles to sign at the event!\nPresented in partnership with Princeton Public Library and Not In Our Town Princeton. \nRegistration is optional but encouraged here.
URL:https://www.sustainableprinceton.org/event/sustainable-minds-author-talk-charles-t-brown-2/
LOCATION:Princeton Public Library\, 65 Witherspoon\, Princeton\, NJ\, 08542\, United States
ATTACH;FMTTYPE=image/jpeg:https://www.sustainableprinceton.org/wp-content/uploads/2025/04/CharlesBrown-2-scaled.jpg
END:VEVENT
END:VCALENDAR