BEGIN:VCALENDAR
VERSION:2.0
PRODID:-//Sustainable Princeton - ECPv6.15.17//NONSGML v1.0//EN
CALSCALE:GREGORIAN
METHOD:PUBLISH
X-WR-CALNAME:Sustainable Princeton
X-ORIGINAL-URL:https://www.sustainableprinceton.org
X-WR-CALDESC:Events for Sustainable Princeton
REFRESH-INTERVAL;VALUE=DURATION:PT1H
X-Robots-Tag:noindex
X-PUBLISHED-TTL:PT1H
BEGIN:VTIMEZONE
TZID:America/New_York
BEGIN:DAYLIGHT
TZOFFSETFROM:-0500
TZOFFSETTO:-0400
TZNAME:EDT
DTSTART:20240310T070000
END:DAYLIGHT
BEGIN:STANDARD
TZOFFSETFROM:-0400
TZOFFSETTO:-0500
TZNAME:EST
DTSTART:20241103T060000
END:STANDARD
BEGIN:DAYLIGHT
TZOFFSETFROM:-0500
TZOFFSETTO:-0400
TZNAME:EDT
DTSTART:20250309T070000
END:DAYLIGHT
BEGIN:STANDARD
TZOFFSETFROM:-0400
TZOFFSETTO:-0500
TZNAME:EST
DTSTART:20251102T060000
END:STANDARD
BEGIN:DAYLIGHT
TZOFFSETFROM:-0500
TZOFFSETTO:-0400
TZNAME:EDT
DTSTART:20260308T070000
END:DAYLIGHT
BEGIN:STANDARD
TZOFFSETFROM:-0400
TZOFFSETTO:-0500
TZNAME:EST
DTSTART:20261101T060000
END:STANDARD
END:VTIMEZONE
BEGIN:VEVENT
DTSTART;TZID=America/New_York:20250804T160000
DTEND;TZID=America/New_York:20250804T190000
DTSTAMP:20260421T201403
CREATED:20250715T160309Z
LAST-MODIFIED:20250715T160309Z
UID:10000093-1754323200-1754334000@www.sustainableprinceton.org
SUMMARY:Dine to Donate to SP at Rita's Princeton!
DESCRIPTION:There’s never been a cooler way to donate to SP!\n20% of sales from Ritas at the Princeton Shopping Center will be donated to Sustainable Princeton!\n \nNEW DATE: \nAugust 4th \n4  to 7 pm  \nRita’s at the Princeton Shopping Center \nGo low waste and bring your own reusable spoon!
URL:https://www.sustainableprinceton.org/event/dine-to-donate-to-sp-at-ritas-princeton-2/
LOCATION:Rita’s Italinan Ice & Custard\, 301 N Harrison St\, Princeton\, New Jersey\, 08540\, United States
ATTACH;FMTTYPE=image/png:https://www.sustainableprinceton.org/wp-content/uploads/2025/07/White-and-Black-Creative-Colorful-Ice-Cream-Food-Promotion-Instagram-Post.png
END:VEVENT
END:VCALENDAR