BEGIN:VCALENDAR
VERSION:2.0
PRODID:-//Sustainable Princeton - ECPv6.15.20//NONSGML v1.0//EN
CALSCALE:GREGORIAN
METHOD:PUBLISH
X-WR-CALNAME:Sustainable Princeton
X-ORIGINAL-URL:https://www.sustainableprinceton.org
X-WR-CALDESC:Events for Sustainable Princeton
REFRESH-INTERVAL;VALUE=DURATION:PT1H
X-Robots-Tag:noindex
X-PUBLISHED-TTL:PT1H
BEGIN:VTIMEZONE
TZID:America/New_York
BEGIN:DAYLIGHT
TZOFFSETFROM:-0500
TZOFFSETTO:-0400
TZNAME:EDT
DTSTART:20240310T070000
END:DAYLIGHT
BEGIN:STANDARD
TZOFFSETFROM:-0400
TZOFFSETTO:-0500
TZNAME:EST
DTSTART:20241103T060000
END:STANDARD
BEGIN:DAYLIGHT
TZOFFSETFROM:-0500
TZOFFSETTO:-0400
TZNAME:EDT
DTSTART:20250309T070000
END:DAYLIGHT
BEGIN:STANDARD
TZOFFSETFROM:-0400
TZOFFSETTO:-0500
TZNAME:EST
DTSTART:20251102T060000
END:STANDARD
BEGIN:DAYLIGHT
TZOFFSETFROM:-0500
TZOFFSETTO:-0400
TZNAME:EDT
DTSTART:20260308T070000
END:DAYLIGHT
BEGIN:STANDARD
TZOFFSETFROM:-0400
TZOFFSETTO:-0500
TZNAME:EST
DTSTART:20261101T060000
END:STANDARD
END:VTIMEZONE
BEGIN:VEVENT
DTSTART;VALUE=DATE:20250901
DTEND;VALUE=DATE:20251001
DTSTAMP:20260424T093603
CREATED:20250828T173437Z
LAST-MODIFIED:20250828T173437Z
UID:10000098-1756684800-1759276799@www.sustainableprinceton.org
SUMMARY:September Dine to Donate to SP at Jammin' Crêpes
DESCRIPTION:Jammin’ Crêpes has partnered with Sustainable Princeton for a “Dine to Donate” fundraiser\, where 25% of sales from September will benefit the SP!\n\nTo participate\, dine at Jammin’ Crêpes from 4 pm to 6 pm in September to support Sustainable Princeton’s mission to reduce our community’s greenhouse gas emissions\, protect the local ecosystem\, and increase resilience to climate change.\n  \n\n\n\n\n\n\n\n\n\n\n\n\nHow it works: \n\n\n\n\n\nVisit Jammin’ Crêpes: any day from 4-6 PM throughout September.\nEnjoy your meal\, knowing that your purchase supports Sustainable Princeton.\n25% of total sales will go directly to SP.
URL:https://www.sustainableprinceton.org/event/september-dine-to-donate-to-sp-at-jammin-crepes/
LOCATION:NJ
ATTACH;FMTTYPE=image/png:https://www.sustainableprinceton.org/wp-content/uploads/2025/08/Screenshot-2025-08-28-at-1.32.33-PM.png
ORGANIZER;CN="Sustainable Princeton":MAILTO:info@sustainableprinceton.org
END:VEVENT
BEGIN:VEVENT
DTSTART;TZID=America/New_York:20250906T160000
DTEND;TZID=America/New_York:20250906T190000
DTSTAMP:20260424T093603
CREATED:20250730T201641Z
LAST-MODIFIED:20250730T201641Z
UID:10000094-1757174400-1757185200@www.sustainableprinceton.org
SUMMARY:Beer & Garden: A sustainable gardening pop-up event featuring Sustainable Princeton and Triumph Brewery
DESCRIPTION:Beer & Garden \nA sustainable gardening pop-up event featuring Sustainable Princeton and Triumph Brewery  \nDate: Saturday\, September 6\, 2025 \nTime: 4:00-7:00 pm \nPrinceton Shopping Center courtyard  \nThis isn’t your average Beer Garden! Join Sustainable Princeton for their first annual Beer & Garden\, an event that aims to bring the community together over local brews from our friends at Triumph Brewery\, live music\, and free educational booths about sustainable landscaping. \nEnjoy music from local band\, Ride or Die\, while learning how to make your garden stunningly sustainable. Explore Sustainable Princeton’s collection of gardening tools from our free Lending Library\, build a leaf corral\, and create native flower seed bombs! There’s something fun for the whole family. \nSponsorship opportunities are available to support our mission.  \nThank you to our sponsors!
URL:https://www.sustainableprinceton.org/event/beer-garden-2025/
LOCATION:Princeton Shopping Center\, 301 N Harrison St\, Princeton\, NJ\, 08540\, United States
ATTACH;FMTTYPE=image/png:https://www.sustainableprinceton.org/wp-content/uploads/2025/07/Beer-Garden.png
END:VEVENT
END:VCALENDAR