BEGIN:VCALENDAR
VERSION:2.0
PRODID:-//Sustainable Princeton - ECPv6.15.20//NONSGML v1.0//EN
CALSCALE:GREGORIAN
METHOD:PUBLISH
X-ORIGINAL-URL:https://www.sustainableprinceton.org
X-WR-CALDESC:Events for Sustainable Princeton
REFRESH-INTERVAL;VALUE=DURATION:PT1H
X-Robots-Tag:noindex
X-PUBLISHED-TTL:PT1H
BEGIN:VTIMEZONE
TZID:America/New_York
BEGIN:DAYLIGHT
TZOFFSETFROM:-0500
TZOFFSETTO:-0400
TZNAME:EDT
DTSTART:20240310T070000
END:DAYLIGHT
BEGIN:STANDARD
TZOFFSETFROM:-0400
TZOFFSETTO:-0500
TZNAME:EST
DTSTART:20241103T060000
END:STANDARD
BEGIN:DAYLIGHT
TZOFFSETFROM:-0500
TZOFFSETTO:-0400
TZNAME:EDT
DTSTART:20250309T070000
END:DAYLIGHT
BEGIN:STANDARD
TZOFFSETFROM:-0400
TZOFFSETTO:-0500
TZNAME:EST
DTSTART:20251102T060000
END:STANDARD
BEGIN:DAYLIGHT
TZOFFSETFROM:-0500
TZOFFSETTO:-0400
TZNAME:EDT
DTSTART:20260308T070000
END:DAYLIGHT
BEGIN:STANDARD
TZOFFSETFROM:-0400
TZOFFSETTO:-0500
TZNAME:EST
DTSTART:20261101T060000
END:STANDARD
BEGIN:DAYLIGHT
TZOFFSETFROM:-0500
TZOFFSETTO:-0400
TZNAME:EDT
DTSTART:20270314T070000
END:DAYLIGHT
BEGIN:STANDARD
TZOFFSETFROM:-0400
TZOFFSETTO:-0500
TZNAME:EST
DTSTART:20271107T060000
END:STANDARD
END:VTIMEZONE
BEGIN:VEVENT
DTSTART;TZID=America/New_York:20251030T120000
DTEND;TZID=America/New_York:20251030T210000
DTSTAMP:20260424T102154
CREATED:20251008T155843Z
LAST-MODIFIED:20251029T181316Z
UID:10000100-1761825600-1761858000@www.sustainableprinceton.org
SUMMARY:Dine to Donate to SP at NOMAD Pizza
DESCRIPTION:Let’s reimagine streets as places for people! “Ciclovía” is a Spanish term that means cycleway\, or a temporary closing of streets to automobiles for cyclists and pedestrians. Ciclovia Princeton will temporarily “reimagine” a few roads within town — Walnut Ln from Houghton Rd to Guyot Ave — maximizing this public space with engaging\, all-ages activities that bring us together to socialize\, get creative\, and move freely.Along the route\, you are invited to pick up stretching and mobility tips in free yoga demonstrations\, get moving at a Capoeira workshop\, brush up your skills in a bike safety area\, watch as chalk murals come to life\, and discover moments of live music in motion. There will also be a bike decorating contest\, where we encourage you to use sourced and recycled materials to transform your bikes.  Tour De Flair bike decorating competitionHosted by the Princeton Recreation CommissionSchedule: 11:45am registration deadline\, 12:00pm for parade and judging\, winner announcements at 1:30pmCategories: Adult ages 14 and up\, youth ages 13 and under\, and Family.Prizes: For each Category\, 1st place 7 day passes to the Community Park Pool\, 2nd place 3 day passes to the pool\, 3rd place 1 day pass to the pool.  Walk\, run\, bike\, skate\, roll\, push strollers\, dance\, and enjoy the road at your own pace. However you move\, or whether you simply pull out a lawn chair to take it all in\, participate in whatever way feels good for you\, car-free and care-free. Ciclovia Princeton is presented by Sustainable Princeton and the Arts Council of Princeton\, with support from the Municipality of Princeton.								\n				\n				\n		\n				\n				\n																														\n				\n				\n					\n				\n		\n					\n				\n				\n																														\n				\n					\n				\n		\n					\n				\n				\n																														\n				\n					\n				\n		\n					\n				\n				\n					Interested in becoming a sponsor?				\n				\n				\n				\n									Email info@sustainableprinceton.org to learn more or fill out this form!
URL:https://www.sustainableprinceton.org/event/dine-to-donate-to-sp-at-nomad-pizza/
LOCATION:Nomad Pizza Princeton\, 301 N Harrison St\, Princeton\, New Jersey\, 08540\, United States
ATTACH;FMTTYPE=image/jpeg:https://www.sustainableprinceton.org/wp-content/uploads/2025/10/93359135_10157212693731589_7794832014028308480_n.jpg
END:VEVENT
BEGIN:VEVENT
DTSTART;TZID=America/New_York:20260314T110000
DTEND;TZID=America/New_York:20260314T150000
DTSTAMP:20260424T102154
CREATED:20260108T195206Z
LAST-MODIFIED:20260312T184840Z
UID:10000103-1773486000-1773500400@www.sustainableprinceton.org
SUMMARY:Sustainable Home Expo 2026
DESCRIPTION:Let’s reimagine streets as places for people! “Ciclovía” is a Spanish term that means cycleway\, or a temporary closing of streets to automobiles for cyclists and pedestrians. Ciclovia Princeton will temporarily “reimagine” a few roads within town — Walnut Ln from Houghton Rd to Guyot Ave — maximizing this public space with engaging\, all-ages activities that bring us together to socialize\, get creative\, and move freely.Along the route\, you are invited to pick up stretching and mobility tips in free yoga demonstrations\, get moving at a Capoeira workshop\, brush up your skills in a bike safety area\, watch as chalk murals come to life\, and discover moments of live music in motion. There will also be a bike decorating contest\, where we encourage you to use sourced and recycled materials to transform your bikes.  Tour De Flair bike decorating competitionHosted by the Princeton Recreation CommissionSchedule: 11:45am registration deadline\, 12:00pm for parade and judging\, winner announcements at 1:30pmCategories: Adult ages 14 and up\, youth ages 13 and under\, and Family.Prizes: For each Category\, 1st place 7 day passes to the Community Park Pool\, 2nd place 3 day passes to the pool\, 3rd place 1 day pass to the pool.  Walk\, run\, bike\, skate\, roll\, push strollers\, dance\, and enjoy the road at your own pace. However you move\, or whether you simply pull out a lawn chair to take it all in\, participate in whatever way feels good for you\, car-free and care-free. Ciclovia Princeton is presented by Sustainable Princeton and the Arts Council of Princeton\, with support from the Municipality of Princeton.								\n				\n				\n		\n				\n				\n																														\n				\n				\n					\n				\n		\n					\n				\n				\n																														\n				\n					\n				\n		\n					\n				\n				\n																														\n				\n					\n				\n		\n					\n				\n				\n					Interested in becoming a sponsor?				\n				\n				\n				\n									Email info@sustainableprinceton.org to learn more or fill out this form!
URL:https://www.sustainableprinceton.org/event/she-2026/
LOCATION:Princeton Middle School\, 217 Walnut Lane\, Princeton\, New Jersey\, 08540
ATTACH;FMTTYPE=image/png:https://www.sustainableprinceton.org/wp-content/uploads/2025/09/2026-SHE-Facebook-Event.png
END:VEVENT
BEGIN:VEVENT
DTSTART;TZID=America/New_York:20260324T190000
DTEND;TZID=America/New_York:20260324T200000
DTSTAMP:20260424T102154
CREATED:20260224T152411Z
LAST-MODIFIED:20260224T152411Z
UID:10000105-1774378800-1774382400@www.sustainableprinceton.org
SUMMARY:Invasive Species: Getting to the Root of the Issue
DESCRIPTION:Let’s reimagine streets as places for people! “Ciclovía” is a Spanish term that means cycleway\, or a temporary closing of streets to automobiles for cyclists and pedestrians. Ciclovia Princeton will temporarily “reimagine” a few roads within town — Walnut Ln from Houghton Rd to Guyot Ave — maximizing this public space with engaging\, all-ages activities that bring us together to socialize\, get creative\, and move freely.Along the route\, you are invited to pick up stretching and mobility tips in free yoga demonstrations\, get moving at a Capoeira workshop\, brush up your skills in a bike safety area\, watch as chalk murals come to life\, and discover moments of live music in motion. There will also be a bike decorating contest\, where we encourage you to use sourced and recycled materials to transform your bikes.  Tour De Flair bike decorating competitionHosted by the Princeton Recreation CommissionSchedule: 11:45am registration deadline\, 12:00pm for parade and judging\, winner announcements at 1:30pmCategories: Adult ages 14 and up\, youth ages 13 and under\, and Family.Prizes: For each Category\, 1st place 7 day passes to the Community Park Pool\, 2nd place 3 day passes to the pool\, 3rd place 1 day pass to the pool.  Walk\, run\, bike\, skate\, roll\, push strollers\, dance\, and enjoy the road at your own pace. However you move\, or whether you simply pull out a lawn chair to take it all in\, participate in whatever way feels good for you\, car-free and care-free. Ciclovia Princeton is presented by Sustainable Princeton and the Arts Council of Princeton\, with support from the Municipality of Princeton.								\n				\n				\n		\n				\n				\n																														\n				\n				\n					\n				\n		\n					\n				\n				\n																														\n				\n					\n				\n		\n					\n				\n				\n																														\n				\n					\n				\n		\n					\n				\n				\n					Interested in becoming a sponsor?				\n				\n				\n				\n									Email info@sustainableprinceton.org to learn more or fill out this form!
URL:https://www.sustainableprinceton.org/event/invasive-species-getting-to-the-root-of-the-issue/2026-03-24/
LOCATION:Princeton High School\, 151 Moore St\, Princeton\, NJ\, 08540\, United States
ATTACH;FMTTYPE=image/png:https://www.sustainableprinceton.org/wp-content/uploads/2026/02/root-of-the-issue-class.png
END:VEVENT
BEGIN:VEVENT
DTSTART;TZID=America/New_York:20260407T193000
DTEND;TZID=America/New_York:20260407T200000
DTSTAMP:20260424T102154
CREATED:20260224T152411Z
LAST-MODIFIED:20260224T152411Z
UID:10000106-1775590200-1775592000@www.sustainableprinceton.org
SUMMARY:Invasive Species: Getting to the Root of the Issue
DESCRIPTION:Let’s reimagine streets as places for people! “Ciclovía” is a Spanish term that means cycleway\, or a temporary closing of streets to automobiles for cyclists and pedestrians. Ciclovia Princeton will temporarily “reimagine” a few roads within town — Walnut Ln from Houghton Rd to Guyot Ave — maximizing this public space with engaging\, all-ages activities that bring us together to socialize\, get creative\, and move freely.Along the route\, you are invited to pick up stretching and mobility tips in free yoga demonstrations\, get moving at a Capoeira workshop\, brush up your skills in a bike safety area\, watch as chalk murals come to life\, and discover moments of live music in motion. There will also be a bike decorating contest\, where we encourage you to use sourced and recycled materials to transform your bikes.  Tour De Flair bike decorating competitionHosted by the Princeton Recreation CommissionSchedule: 11:45am registration deadline\, 12:00pm for parade and judging\, winner announcements at 1:30pmCategories: Adult ages 14 and up\, youth ages 13 and under\, and Family.Prizes: For each Category\, 1st place 7 day passes to the Community Park Pool\, 2nd place 3 day passes to the pool\, 3rd place 1 day pass to the pool.  Walk\, run\, bike\, skate\, roll\, push strollers\, dance\, and enjoy the road at your own pace. However you move\, or whether you simply pull out a lawn chair to take it all in\, participate in whatever way feels good for you\, car-free and care-free. Ciclovia Princeton is presented by Sustainable Princeton and the Arts Council of Princeton\, with support from the Municipality of Princeton.								\n				\n				\n		\n				\n				\n																														\n				\n				\n					\n				\n		\n					\n				\n				\n																														\n				\n					\n				\n		\n					\n				\n				\n																														\n				\n					\n				\n		\n					\n				\n				\n					Interested in becoming a sponsor?				\n				\n				\n				\n									Email info@sustainableprinceton.org to learn more or fill out this form!
URL:https://www.sustainableprinceton.org/event/invasive-species-getting-to-the-root-of-the-issue/2026-04-07/
LOCATION:Princeton High School\, 151 Moore St\, Princeton\, NJ\, 08540\, United States
ATTACH;FMTTYPE=image/png:https://www.sustainableprinceton.org/wp-content/uploads/2026/02/root-of-the-issue-class.png
END:VEVENT
BEGIN:VEVENT
DTSTART;TZID=America/New_York:20260418T100000
DTEND;TZID=America/New_York:20260418T140000
DTSTAMP:20260424T102154
CREATED:20250825T124154Z
LAST-MODIFIED:20260217T175242Z
UID:10000097-1776506400-1776520800@www.sustainableprinceton.org
SUMMARY:Princeton Municipal S.H.R.E.D FEST
DESCRIPTION:Let’s reimagine streets as places for people! “Ciclovía” is a Spanish term that means cycleway\, or a temporary closing of streets to automobiles for cyclists and pedestrians. Ciclovia Princeton will temporarily “reimagine” a few roads within town — Walnut Ln from Houghton Rd to Guyot Ave — maximizing this public space with engaging\, all-ages activities that bring us together to socialize\, get creative\, and move freely.Along the route\, you are invited to pick up stretching and mobility tips in free yoga demonstrations\, get moving at a Capoeira workshop\, brush up your skills in a bike safety area\, watch as chalk murals come to life\, and discover moments of live music in motion. There will also be a bike decorating contest\, where we encourage you to use sourced and recycled materials to transform your bikes.  Tour De Flair bike decorating competitionHosted by the Princeton Recreation CommissionSchedule: 11:45am registration deadline\, 12:00pm for parade and judging\, winner announcements at 1:30pmCategories: Adult ages 14 and up\, youth ages 13 and under\, and Family.Prizes: For each Category\, 1st place 7 day passes to the Community Park Pool\, 2nd place 3 day passes to the pool\, 3rd place 1 day pass to the pool.  Walk\, run\, bike\, skate\, roll\, push strollers\, dance\, and enjoy the road at your own pace. However you move\, or whether you simply pull out a lawn chair to take it all in\, participate in whatever way feels good for you\, car-free and care-free. Ciclovia Princeton is presented by Sustainable Princeton and the Arts Council of Princeton\, with support from the Municipality of Princeton.								\n				\n				\n		\n				\n				\n																														\n				\n				\n					\n				\n		\n					\n				\n				\n																														\n				\n					\n				\n		\n					\n				\n				\n																														\n				\n					\n				\n		\n					\n				\n				\n					Interested in becoming a sponsor?				\n				\n				\n				\n									Email info@sustainableprinceton.org to learn more or fill out this form!
URL:https://www.sustainableprinceton.org/event/princeton-municipal-s-h-r-e-d-fest/
LOCATION:Westminster Choir College\, 101 Walnut Ln\, Princeton\, NJ\, 08540
ATTACH;FMTTYPE=image/png:https://www.sustainableprinceton.org/wp-content/uploads/2025/08/shredfest-2025.png
END:VEVENT
BEGIN:VEVENT
DTSTART;TZID=America/New_York:20260419T120000
DTEND;TZID=America/New_York:20260419T160000
DTSTAMP:20260424T102154
CREATED:20260108T171024Z
LAST-MODIFIED:20260417T192326Z
UID:10000102-1776600000-1776614400@www.sustainableprinceton.org
SUMMARY:Earth Day Celebration 2026
DESCRIPTION:Let’s reimagine streets as places for people! “Ciclovía” is a Spanish term that means cycleway\, or a temporary closing of streets to automobiles for cyclists and pedestrians. Ciclovia Princeton will temporarily “reimagine” a few roads within town — Walnut Ln from Houghton Rd to Guyot Ave — maximizing this public space with engaging\, all-ages activities that bring us together to socialize\, get creative\, and move freely.Along the route\, you are invited to pick up stretching and mobility tips in free yoga demonstrations\, get moving at a Capoeira workshop\, brush up your skills in a bike safety area\, watch as chalk murals come to life\, and discover moments of live music in motion. There will also be a bike decorating contest\, where we encourage you to use sourced and recycled materials to transform your bikes.  Tour De Flair bike decorating competitionHosted by the Princeton Recreation CommissionSchedule: 11:45am registration deadline\, 12:00pm for parade and judging\, winner announcements at 1:30pmCategories: Adult ages 14 and up\, youth ages 13 and under\, and Family.Prizes: For each Category\, 1st place 7 day passes to the Community Park Pool\, 2nd place 3 day passes to the pool\, 3rd place 1 day pass to the pool.  Walk\, run\, bike\, skate\, roll\, push strollers\, dance\, and enjoy the road at your own pace. However you move\, or whether you simply pull out a lawn chair to take it all in\, participate in whatever way feels good for you\, car-free and care-free. Ciclovia Princeton is presented by Sustainable Princeton and the Arts Council of Princeton\, with support from the Municipality of Princeton.								\n				\n				\n		\n				\n				\n																														\n				\n				\n					\n				\n		\n					\n				\n				\n																														\n				\n					\n				\n		\n					\n				\n				\n																														\n				\n					\n				\n		\n					\n				\n				\n					Interested in becoming a sponsor?				\n				\n				\n				\n									Email info@sustainableprinceton.org to learn more or fill out this form!
URL:https://www.sustainableprinceton.org/event/earth-day-celebration-2026/
LOCATION:Morven Museum & Garden\, 55 Stockton Street\, Princeton\, NJ\, 08540\, United States
ATTACH;FMTTYPE=image/png:https://www.sustainableprinceton.org/wp-content/uploads/2026/01/Earth-Day-Celebration-banner-Rain-info.png
END:VEVENT
BEGIN:VEVENT
DTSTART;TZID=America/New_York:20260516T180000
DTEND;TZID=America/New_York:20260516T220000
DTSTAMP:20260424T102154
CREATED:20260217T173254Z
LAST-MODIFIED:20260414T212700Z
UID:10000104-1778954400-1778968800@www.sustainableprinceton.org
SUMMARY:Spring Green Soirée
DESCRIPTION:Let’s reimagine streets as places for people! “Ciclovía” is a Spanish term that means cycleway\, or a temporary closing of streets to automobiles for cyclists and pedestrians. Ciclovia Princeton will temporarily “reimagine” a few roads within town — Walnut Ln from Houghton Rd to Guyot Ave — maximizing this public space with engaging\, all-ages activities that bring us together to socialize\, get creative\, and move freely.Along the route\, you are invited to pick up stretching and mobility tips in free yoga demonstrations\, get moving at a Capoeira workshop\, brush up your skills in a bike safety area\, watch as chalk murals come to life\, and discover moments of live music in motion. There will also be a bike decorating contest\, where we encourage you to use sourced and recycled materials to transform your bikes.  Tour De Flair bike decorating competitionHosted by the Princeton Recreation CommissionSchedule: 11:45am registration deadline\, 12:00pm for parade and judging\, winner announcements at 1:30pmCategories: Adult ages 14 and up\, youth ages 13 and under\, and Family.Prizes: For each Category\, 1st place 7 day passes to the Community Park Pool\, 2nd place 3 day passes to the pool\, 3rd place 1 day pass to the pool.  Walk\, run\, bike\, skate\, roll\, push strollers\, dance\, and enjoy the road at your own pace. However you move\, or whether you simply pull out a lawn chair to take it all in\, participate in whatever way feels good for you\, car-free and care-free. Ciclovia Princeton is presented by Sustainable Princeton and the Arts Council of Princeton\, with support from the Municipality of Princeton.								\n				\n				\n		\n				\n				\n																														\n				\n				\n					\n				\n		\n					\n				\n				\n																														\n				\n					\n				\n		\n					\n				\n				\n																														\n				\n					\n				\n		\n					\n				\n				\n					Interested in becoming a sponsor?				\n				\n				\n				\n									Email info@sustainableprinceton.org to learn more or fill out this form!
URL:https://www.sustainableprinceton.org/event/spring-green-soiree/
LOCATION:Updike Farmstead\, 354 Quaker Rd\, Princeton\, NJ\, 08540\, United States
ATTACH;FMTTYPE=image/png:https://www.sustainableprinceton.org/wp-content/uploads/2026/02/Save-the-date-website.png
ORGANIZER;CN="Sustainable Princeton":MAILTO:info@sustainableprinceton.org
END:VEVENT
END:VCALENDAR