BEGIN:VCALENDAR
VERSION:2.0
PRODID:-//Sustainable Princeton - ECPv6.15.17//NONSGML v1.0//EN
CALSCALE:GREGORIAN
METHOD:PUBLISH
X-WR-CALNAME:Sustainable Princeton
X-ORIGINAL-URL:https://www.sustainableprinceton.org
X-WR-CALDESC:Events for Sustainable Princeton
REFRESH-INTERVAL;VALUE=DURATION:PT1H
X-Robots-Tag:noindex
X-PUBLISHED-TTL:PT1H
BEGIN:VTIMEZONE
TZID:America/New_York
BEGIN:DAYLIGHT
TZOFFSETFROM:-0500
TZOFFSETTO:-0400
TZNAME:EDT
DTSTART:20240310T070000
END:DAYLIGHT
BEGIN:STANDARD
TZOFFSETFROM:-0400
TZOFFSETTO:-0500
TZNAME:EST
DTSTART:20241103T060000
END:STANDARD
BEGIN:DAYLIGHT
TZOFFSETFROM:-0500
TZOFFSETTO:-0400
TZNAME:EDT
DTSTART:20250309T070000
END:DAYLIGHT
BEGIN:STANDARD
TZOFFSETFROM:-0400
TZOFFSETTO:-0500
TZNAME:EST
DTSTART:20251102T060000
END:STANDARD
BEGIN:DAYLIGHT
TZOFFSETFROM:-0500
TZOFFSETTO:-0400
TZNAME:EDT
DTSTART:20260308T070000
END:DAYLIGHT
BEGIN:STANDARD
TZOFFSETFROM:-0400
TZOFFSETTO:-0500
TZNAME:EST
DTSTART:20261101T060000
END:STANDARD
END:VTIMEZONE
BEGIN:VEVENT
DTSTART;TZID=America/New_York:20250405T100000
DTEND;TZID=America/New_York:20250405T140000
DTSTAMP:20260421T170632
CREATED:20250306T183335Z
LAST-MODIFIED:20250404T202416Z
UID:10000039-1743847200-1743861600@www.sustainableprinceton.org
SUMMARY:Princeton Muncipal S.H.R.E.D Fest
DESCRIPTION:We’re excited to help keep items out of the landfill at Princeton Municipality’s spring S.H.R.E.D Fest on April 5th (10 am to 2 pm)\nDrive by our bright green tent to drop off:\n🔋 Small batteries (Tape must be added to both ends to prevent electrical discharges\, and no large batteries!)\n🛍 Reusable shopping bags\n📱Cellphones\, tablets\, and accessories (like cables)\n⬜️ Styrofoam blocks (Clean\, dry\, and free of tape and stickers. No peanuts\, cellulose\, or “shiny” Styrofoam-like packing material.)\n🖨Printer ink cartridges\n \nPlease do not exit your car to keep the drop-off process efficient! We’ll get your items for you!\nLearn more about SHRED Fest
URL:https://www.sustainableprinceton.org/event/princeton-muncipal-s-h-r-e-d-fest/
LOCATION:Westminster Choir College\, 101 Walnut Ln\, Princeton\, NJ\, 08540
ATTACH;FMTTYPE=image/png:https://www.sustainableprinceton.org/wp-content/uploads/2024/04/SHRED-Fest.png
END:VEVENT
BEGIN:VEVENT
DTSTART;TZID=America/New_York:20250405T100000
DTEND;TZID=America/New_York:20250405T140000
DTSTAMP:20260421T170632
CREATED:20250306T183335Z
LAST-MODIFIED:20250306T183335Z
UID:10000086-1743847200-1743861600@www.sustainableprinceton.org
SUMMARY:Princeton Muncipal S.H.R.E.D Fest
DESCRIPTION:We’re excited to help keep items out of the landfill at Princeton Municipality’s spring S.H.R.E.D Fest on April 5th (10 am to 2 pm)\nDrive by our bright green tent to drop off:\n🔋 Small batteries (Tape must be added to both ends to prevent electrical discharges\, and no large batteries!)\n🛍 Reusable shopping bags\n📱Cellphones\, tablets\, and accessories (like cables)\n⬜️ Styrofoam blocks (Clean\, dry\, and free of tape and stickers. No peanuts\, cellulose\, or “shiny” Styrofoam-like packing material.)\n🖨Printer ink cartridges\n \nPlease do not exit your car to keep the drop-off process efficient! We’ll get your items for you!\nLearn more about SHRED Fest
URL:https://www.sustainableprinceton.org/event/princeton-muncipal-s-h-r-e-d-fest-2/
LOCATION:Westminster Choir College\, 101 Walnut Ln\, Princeton\, NJ\, 08540
ATTACH;FMTTYPE=image/png:https://www.sustainableprinceton.org/wp-content/uploads/2024/04/SHRED-Fest.png
END:VEVENT
BEGIN:VEVENT
DTSTART;TZID=America/New_York:20250427T110000
DTEND;TZID=America/New_York:20250427T150000
DTSTAMP:20260421T170632
CREATED:20250113T164249Z
LAST-MODIFIED:20250423T144052Z
UID:10000036-1745751600-1745766000@www.sustainableprinceton.org
SUMMARY:Party Like It's Your Earth Day Celebration!
DESCRIPTION:Join Sustainable Princeton and Morven Museum & Garden for a day of sustainable\, Earth-friendly fun! \nSunday\, April 2711 am to 3 pmMorven Museum and Garden\, 55 Stockton Street\, Princeton NJ Rain or shine \nFree and open to the public. \nSchedule:\n11:00 am – 12:00 pm Yoga (please register in advance)11:30 am; 12:30 pm; and 1:30 pm Garden tour with Morven horticulturists. Each tour lasts about 30 – 40 min. No advanced registration required.12:00 pm – 12:30 pm Trashion show12:30 pm – 1:00 pm Around 8 – A cappella performance1:00 pm – 3:00 pm DJ Myricks \n*please note schedule is subject to change \nEvents requiring advance registration:\nYoga with Gemma from Gratitude Yoga – FREE All-Levels Yoga class at 11:00 am. Class will be offered outdoors with an option to move under a tent or indoors to the Educational Center in the event of rain. No yoga experience necessary. All are welcome. Advance registration required. \n*NEW for 2025!* Trashion Show – Trashion is original fashion designs made from items that would otherwise have been discarded or recycled. Participants will walk in a Trashion Show at 12:00 pm and designs will be judged and prizes will be awarded for each age category\, as well as a “People’s Choice” award. Prizes include: Princeton Arts Council family membership\, $50 Gift card to Nosh and an Alfalfa gift card! To participate\, please register in advance by April 18. \nWhat to Bring:\n\nClothing Donations – Help keep clothes out of the trash! Bring your used clothing for re-wear\, reuse\, and recycling. Helpsy will have bins available for you to drop off your used clothing. Learn what Helpsy accepts and visit their table to learn more about their organization!\nBooks – For the all-ages book swap.\nReusable water bottle and mug – Get a bonus green raffle ticket! There will be free water filling stations available.\nBlanket – Have a picnic lunch and enjoy the music!\n\nHeld in partnership with Morven Museum & Garden\, Princeton Public Schools\, and the Center for Modern Aging. \n\n\n					 Food\n			\n			\n						\nCome hungry! We’ll have vegan and vegetarian options from the following local businesses. And don’t forget to Bring Your Own reusable water bottle and mug! We will be using Re:Dish reusable dishware and Un-Waste composting to make this a zero waste event. \nAlfalfa – Greek and the Far East Salads\, Ginger Turmeric Lemonade\, 2 types of doughnuts. \nthe bent spoon – Ice cream and sorbet. Proceeds benefit SP and Morven! \nCarlito’s Wagon – Vegetarian tacos and nachos. \nIquisine – IQ Portobello Bahn Mi\, Vegetarian Spicy Pulled “Pork” sandwich\, Spring Farro Salad. \nNosh – Veggie Empanadas and French Apple Pie Empanadas. \nSmall World – Iced Matcha\, Cold Brew\, Fresh Squeezed Lemonade\, Coffee\, plus a variety of cookies and granola. \n\n\n\n					 Ongoing Activities\n			\n			\n						\nOngoing Activities:\n\nCenter for Modern Aging – “Found Object” Art Gallery\nComposting Chickens – Learn the ABC’s of home composting chickens and meet a friendly flock! From 11am-1pm only.\nFriends of Princeton Open Space – Make pinecone bird feeders with sunflower butter.\nHelpsy Clothing Drive – Help keep clothes out of the trash! Bring your used clothing for re-wear\, reuse\, and recycling. Helpsy will have bins available for you to drop off your used clothing. Learn what Helpsy accepts and visit their table to learn more about their organization!\nMorven Museum and Garden – Take a Garden Tour with one of Morven’s horticulturists. Tours are at 11:30 am; 12:30 pm; and 1:30 pm. Each tour lasts about 30 – 40 min. No advanced registration required.\nPhoto Booth – Strike a pose and receive a printed photo keepsake for a small donation to Sustainable Princeton and Morven Museum & Garden.\nArts Council of Princeton – Stop by the Arts Council’s table to make your mark on a collaborative art installation with teaching artist Liz Massa! Using cardboard\, recycled materials\, and your favorite art-making tools\, we’ll build a whimsical city of houses\, people\, roads\, trees — anything you can imagine! Together\, we’ll dream up a world where color\, creativity\, and outside-the-box thinking thrive.\nPrinceton Environmental Commission – Learn about composting with PEC!\nPrinceton Public Library – Enjoy decorating butterflies and making Nature Art Frames. \nPrinceton Public Schools -Various family-friendly activities including an all-ages book swap!\nPrinceton Record Exchange – Learn about the process of “recycling” people’s music and movies. Will be giving away free 45’s (the small 7” singles) to celebrate PREX’s 45th anniversary!\nR+K= Smiles -Play with pre-loved toys. They will also be accepting donations of gently used toys. They welcome all donations of toys\, games\, and puzzles. However\, they do not accept video games\, stuffed animals\, or primarily fabric items such as dolls\, etc.\nRoad Maestro – Receive free bike safety inspections and diagnostics\, and get fresh air in your bike tires!\nSprouts Flower Truck – Purchase beautiful locally grown flower bouquets from Sprouts and say hi to Clementine\, the converted VW flower truck!\nWatershed Institute – Make bee hotels out of bamboo.\n\nPlease note: We are no longer accepting new tabling organizations or vendors at this time.  \n\n\n\n					 Event Passport + Prizes\n			\n			\n						\nAll attendees have the chance to win amazing prizes donated by local organizations. Visit the Sustainable Princeton / Morven Museum welcome table to receive your event passport with details on how to win! Earn an additional raffle ticket for BYO reusable water bottle or mug\, and walking or biking to the event. \n\n\n\n					 Getting to the Event\n			\n			\n						\nWalking and biking is encouraged\, ample bicycle parking will be on site at Morven as well as in 1 Monument Drive. If you show proof of biking to the event\, you will receive an extra raffle ticket! \nThere will also be attendee parking available at the Municipal Building at 1 Monument Drive\, Princeton\, NJ 08540. Additional overflow parking will be available in the Seminary lot across the street. \n\n\n\n					 RSVP\n			\n			\n						\n    \n    \n					\nCome hungry! We’ll have vegan and vegetarian options from the following local businesses. And don’t forget to Bring Your Own reusable water bottle and mug! We will be using Re:Dish reusable dishware and Un-Waste composting to make this a zero waste event. \nAlfalfa – Greek and the Far East Salads\, Ginger Turmeric Lemonade\, 2 types of doughnuts. \nthe bent spoon – Ice cream and sorbet. Proceeds benefit SP and Morven! \nCarlito’s Wagon – Vegetarian tacos and nachos. \nIquisine – IQ Portobello Bahn Mi\, Vegetarian Spicy Pulled “Pork” sandwich\, Spring Farro Salad. \nNosh – Veggie Empanadas and French Apple Pie Empanadas. \nSmall World – Iced Matcha\, Cold Brew\, Fresh Squeezed Lemonade\, Coffee\, plus a variety of cookies and granola. \nOngoing Activities:\n\nCenter for Modern Aging – “Found Object” Art Gallery\nComposting Chickens – Learn the ABC’s of home composting chickens and meet a friendly flock! From 11am-1pm only.\nFriends of Princeton Open Space – Make pinecone bird feeders with sunflower butter.\nHelpsy Clothing Drive – Help keep clothes out of the trash! Bring your used clothing for re-wear\, reuse\, and recycling. Helpsy will have bins available for you to drop off your used clothing. Learn what Helpsy accepts and visit their table to learn more about their organization!\nMorven Museum and Garden – Take a Garden Tour with one of Morven’s horticulturists. Tours are at 11:30 am; 12:30 pm; and 1:30 pm. Each tour lasts about 30 – 40 min. No advanced registration required.\nPhoto Booth – Strike a pose and receive a printed photo keepsake for a small donation to Sustainable Princeton and Morven Museum & Garden.\nArts Council of Princeton – Stop by the Arts Council’s table to make your mark on a collaborative art installation with teaching artist Liz Massa! Using cardboard\, recycled materials\, and your favorite art-making tools\, we’ll build a whimsical city of houses\, people\, roads\, trees — anything you can imagine! Together\, we’ll dream up a world where color\, creativity\, and outside-the-box thinking thrive.\nPrinceton Environmental Commission – Learn about composting with PEC!\nPrinceton Public Library – Enjoy decorating butterflies and making Nature Art Frames. \nPrinceton Public Schools -Various family-friendly activities including an all-ages book swap!\nPrinceton Record Exchange – Learn about the process of “recycling” people’s music and movies. Will be giving away free 45’s (the small 7” singles) to celebrate PREX’s 45th anniversary!\nR+K= Smiles -Play with pre-loved toys. They will also be accepting donations of gently used toys. They welcome all donations of toys\, games\, and puzzles. However\, they do not accept video games\, stuffed animals\, or primarily fabric items such as dolls\, etc.\nRoad Maestro – Receive free bike safety inspections and diagnostics\, and get fresh air in your bike tires!\nSprouts Flower Truck – Purchase beautiful locally grown flower bouquets from Sprouts and say hi to Clementine\, the converted VW flower truck!\nWatershed Institute – Make bee hotels out of bamboo.\n\nPlease note: We are no longer accepting new tabling organizations or vendors at this time.  \nAll attendees have the chance to win amazing prizes donated by local organizations. Visit the Sustainable Princeton / Morven Museum welcome table to receive your event passport with details on how to win! Earn an additional raffle ticket for BYO reusable water bottle or mug\, and walking or biking to the event. \nWalking and biking is encouraged\, ample bicycle parking will be on site at Morven as well as in 1 Monument Drive. If you show proof of biking to the event\, you will receive an extra raffle ticket! \nThere will also be attendee parking available at the Municipal Building at 1 Monument Drive\, Princeton\, NJ 08540. Additional overflow parking will be available in the Seminary lot across the street.
URL:https://www.sustainableprinceton.org/event/party-like-its-your-earth-day-celebration/
LOCATION:Morven Museum & Garden\, 55 Stockton Street\, Princeton\, NJ\, 08540\, United States
ATTACH;FMTTYPE=image/png:https://www.sustainableprinceton.org/wp-content/uploads/2025/01/Earth-Day-Celebration-2025.png
END:VEVENT
BEGIN:VEVENT
DTSTART;TZID=America/New_York:20250427T110000
DTEND;TZID=America/New_York:20250427T150000
DTSTAMP:20260421T170632
CREATED:20250113T164249Z
LAST-MODIFIED:20250113T164249Z
UID:10000084-1745751600-1745766000@www.sustainableprinceton.org
SUMMARY:Party Like It's Your Earth Day Celebration!
DESCRIPTION:Join Sustainable Princeton and Morven Museum & Garden for a day of sustainable\, Earth-friendly fun! \nSunday\, April 2711 am to 3 pmMorven Museum and Garden\, 55 Stockton Street\, Princeton NJ Rain or shine \nFree and open to the public. \nSchedule:\n11:00 am – 12:00 pm Yoga (please register in advance)11:30 am; 12:30 pm; and 1:30 pm Garden tour with Morven horticulturists. Each tour lasts about 30 – 40 min. No advanced registration required.12:00 pm – 12:30 pm Trashion show12:30 pm – 1:00 pm Around 8 – A cappella performance1:00 pm – 3:00 pm DJ Myricks \n*please note schedule is subject to change \nEvents requiring advance registration:\nYoga with Gemma from Gratitude Yoga – FREE All-Levels Yoga class at 11:00 am. Class will be offered outdoors with an option to move under a tent or indoors to the Educational Center in the event of rain. No yoga experience necessary. All are welcome. Advance registration required. \n*NEW for 2025!* Trashion Show – Trashion is original fashion designs made from items that would otherwise have been discarded or recycled. Participants will walk in a Trashion Show at 12:00 pm and designs will be judged and prizes will be awarded for each age category\, as well as a “People’s Choice” award. Prizes include: Princeton Arts Council family membership\, $50 Gift card to Nosh and an Alfalfa gift card! To participate\, please register in advance by April 18. \nWhat to Bring:\n\nClothing Donations – Help keep clothes out of the trash! Bring your used clothing for re-wear\, reuse\, and recycling. Helpsy will have bins available for you to drop off your used clothing. Learn what Helpsy accepts and visit their table to learn more about their organization!\nBooks – For the all-ages book swap.\nReusable water bottle and mug – Get a bonus green raffle ticket! There will be free water filling stations available.\nBlanket – Have a picnic lunch and enjoy the music!\n\nHeld in partnership with Morven Museum & Garden\, Princeton Public Schools\, and the Center for Modern Aging. \n\n\n					 Food\n			\n			\n						\nCome hungry! We’ll have vegan and vegetarian options from the following local businesses. And don’t forget to Bring Your Own reusable water bottle and mug! We will be using Re:Dish reusable dishware and Un-Waste composting to make this a zero waste event. \nAlfalfa – Greek and the Far East Salads\, Ginger Turmeric Lemonade\, 2 types of doughnuts. \nthe bent spoon – Ice cream and sorbet. Proceeds benefit SP and Morven! \nCarlito’s Wagon – Vegetarian tacos and nachos. \nIquisine – IQ Portobello Bahn Mi\, Vegetarian Spicy Pulled “Pork” sandwich\, Spring Farro Salad. \nNosh – Veggie Empanadas and French Apple Pie Empanadas. \nSmall World – Iced Matcha\, Cold Brew\, Fresh Squeezed Lemonade\, Coffee\, plus a variety of cookies and granola. \n\n\n\n					 Ongoing Activities\n			\n			\n						\nOngoing Activities:\n\nCenter for Modern Aging – “Found Object” Art Gallery\nComposting Chickens – Learn the ABC’s of home composting chickens and meet a friendly flock! From 11am-1pm only.\nFriends of Princeton Open Space – Make pinecone bird feeders with sunflower butter.\nHelpsy Clothing Drive – Help keep clothes out of the trash! Bring your used clothing for re-wear\, reuse\, and recycling. Helpsy will have bins available for you to drop off your used clothing. Learn what Helpsy accepts and visit their table to learn more about their organization!\nMorven Museum and Garden – Take a Garden Tour with one of Morven’s horticulturists. Tours are at 11:30 am; 12:30 pm; and 1:30 pm. Each tour lasts about 30 – 40 min. No advanced registration required.\nPhoto Booth – Strike a pose and receive a printed photo keepsake for a small donation to Sustainable Princeton and Morven Museum & Garden.\nArts Council of Princeton – Stop by the Arts Council’s table to make your mark on a collaborative art installation with teaching artist Liz Massa! Using cardboard\, recycled materials\, and your favorite art-making tools\, we’ll build a whimsical city of houses\, people\, roads\, trees — anything you can imagine! Together\, we’ll dream up a world where color\, creativity\, and outside-the-box thinking thrive.\nPrinceton Environmental Commission – Learn about composting with PEC!\nPrinceton Public Library – Enjoy decorating butterflies and making Nature Art Frames. \nPrinceton Public Schools -Various family-friendly activities including an all-ages book swap!\nPrinceton Record Exchange – Learn about the process of “recycling” people’s music and movies. Will be giving away free 45’s (the small 7” singles) to celebrate PREX’s 45th anniversary!\nR+K= Smiles -Play with pre-loved toys. They will also be accepting donations of gently used toys. They welcome all donations of toys\, games\, and puzzles. However\, they do not accept video games\, stuffed animals\, or primarily fabric items such as dolls\, etc.\nRoad Maestro – Receive free bike safety inspections and diagnostics\, and get fresh air in your bike tires!\nSprouts Flower Truck – Purchase beautiful locally grown flower bouquets from Sprouts and say hi to Clementine\, the converted VW flower truck!\nWatershed Institute – Make bee hotels out of bamboo.\n\nPlease note: We are no longer accepting new tabling organizations or vendors at this time.  \n\n\n\n					 Event Passport + Prizes\n			\n			\n						\nAll attendees have the chance to win amazing prizes donated by local organizations. Visit the Sustainable Princeton / Morven Museum welcome table to receive your event passport with details on how to win! Earn an additional raffle ticket for BYO reusable water bottle or mug\, and walking or biking to the event. \n\n\n\n					 Getting to the Event\n			\n			\n						\nWalking and biking is encouraged\, ample bicycle parking will be on site at Morven as well as in 1 Monument Drive. If you show proof of biking to the event\, you will receive an extra raffle ticket! \nThere will also be attendee parking available at the Municipal Building at 1 Monument Drive\, Princeton\, NJ 08540. Additional overflow parking will be available in the Seminary lot across the street. \n\n\n\n					 RSVP\n			\n			\n						\n    \n    \n					\nCome hungry! We’ll have vegan and vegetarian options from the following local businesses. And don’t forget to Bring Your Own reusable water bottle and mug! We will be using Re:Dish reusable dishware and Un-Waste composting to make this a zero waste event. \nAlfalfa – Greek and the Far East Salads\, Ginger Turmeric Lemonade\, 2 types of doughnuts. \nthe bent spoon – Ice cream and sorbet. Proceeds benefit SP and Morven! \nCarlito’s Wagon – Vegetarian tacos and nachos. \nIquisine – IQ Portobello Bahn Mi\, Vegetarian Spicy Pulled “Pork” sandwich\, Spring Farro Salad. \nNosh – Veggie Empanadas and French Apple Pie Empanadas. \nSmall World – Iced Matcha\, Cold Brew\, Fresh Squeezed Lemonade\, Coffee\, plus a variety of cookies and granola. \nOngoing Activities:\n\nCenter for Modern Aging – “Found Object” Art Gallery\nComposting Chickens – Learn the ABC’s of home composting chickens and meet a friendly flock! From 11am-1pm only.\nFriends of Princeton Open Space – Make pinecone bird feeders with sunflower butter.\nHelpsy Clothing Drive – Help keep clothes out of the trash! Bring your used clothing for re-wear\, reuse\, and recycling. Helpsy will have bins available for you to drop off your used clothing. Learn what Helpsy accepts and visit their table to learn more about their organization!\nMorven Museum and Garden – Take a Garden Tour with one of Morven’s horticulturists. Tours are at 11:30 am; 12:30 pm; and 1:30 pm. Each tour lasts about 30 – 40 min. No advanced registration required.\nPhoto Booth – Strike a pose and receive a printed photo keepsake for a small donation to Sustainable Princeton and Morven Museum & Garden.\nArts Council of Princeton – Stop by the Arts Council’s table to make your mark on a collaborative art installation with teaching artist Liz Massa! Using cardboard\, recycled materials\, and your favorite art-making tools\, we’ll build a whimsical city of houses\, people\, roads\, trees — anything you can imagine! Together\, we’ll dream up a world where color\, creativity\, and outside-the-box thinking thrive.\nPrinceton Environmental Commission – Learn about composting with PEC!\nPrinceton Public Library – Enjoy decorating butterflies and making Nature Art Frames. \nPrinceton Public Schools -Various family-friendly activities including an all-ages book swap!\nPrinceton Record Exchange – Learn about the process of “recycling” people’s music and movies. Will be giving away free 45’s (the small 7” singles) to celebrate PREX’s 45th anniversary!\nR+K= Smiles -Play with pre-loved toys. They will also be accepting donations of gently used toys. They welcome all donations of toys\, games\, and puzzles. However\, they do not accept video games\, stuffed animals\, or primarily fabric items such as dolls\, etc.\nRoad Maestro – Receive free bike safety inspections and diagnostics\, and get fresh air in your bike tires!\nSprouts Flower Truck – Purchase beautiful locally grown flower bouquets from Sprouts and say hi to Clementine\, the converted VW flower truck!\nWatershed Institute – Make bee hotels out of bamboo.\n\nPlease note: We are no longer accepting new tabling organizations or vendors at this time.  \nAll attendees have the chance to win amazing prizes donated by local organizations. Visit the Sustainable Princeton / Morven Museum welcome table to receive your event passport with details on how to win! Earn an additional raffle ticket for BYO reusable water bottle or mug\, and walking or biking to the event. \nWalking and biking is encouraged\, ample bicycle parking will be on site at Morven as well as in 1 Monument Drive. If you show proof of biking to the event\, you will receive an extra raffle ticket! \nThere will also be attendee parking available at the Municipal Building at 1 Monument Drive\, Princeton\, NJ 08540. Additional overflow parking will be available in the Seminary lot across the street.
URL:https://www.sustainableprinceton.org/event/party-like-its-your-earth-day-celebration-2/
LOCATION:Morven Museum & Garden\, 55 Stockton Street\, Princeton\, NJ\, 08540\, United States
ATTACH;FMTTYPE=image/png:https://www.sustainableprinceton.org/wp-content/uploads/2025/01/Earth-Day-Celebration-2025.png
END:VEVENT
END:VCALENDAR