BEGIN:VCALENDAR
VERSION:2.0
PRODID:-//Sustainable Princeton - ECPv6.15.17//NONSGML v1.0//EN
CALSCALE:GREGORIAN
METHOD:PUBLISH
X-WR-CALNAME:Sustainable Princeton
X-ORIGINAL-URL:https://www.sustainableprinceton.org
X-WR-CALDESC:Events for Sustainable Princeton
REFRESH-INTERVAL;VALUE=DURATION:PT1H
X-Robots-Tag:noindex
X-PUBLISHED-TTL:PT1H
BEGIN:VTIMEZONE
TZID:America/New_York
BEGIN:DAYLIGHT
TZOFFSETFROM:-0500
TZOFFSETTO:-0400
TZNAME:EDT
DTSTART:20240310T070000
END:DAYLIGHT
BEGIN:STANDARD
TZOFFSETFROM:-0400
TZOFFSETTO:-0500
TZNAME:EST
DTSTART:20241103T060000
END:STANDARD
BEGIN:DAYLIGHT
TZOFFSETFROM:-0500
TZOFFSETTO:-0400
TZNAME:EDT
DTSTART:20250309T070000
END:DAYLIGHT
BEGIN:STANDARD
TZOFFSETFROM:-0400
TZOFFSETTO:-0500
TZNAME:EST
DTSTART:20251102T060000
END:STANDARD
BEGIN:DAYLIGHT
TZOFFSETFROM:-0500
TZOFFSETTO:-0400
TZNAME:EDT
DTSTART:20260308T070000
END:DAYLIGHT
BEGIN:STANDARD
TZOFFSETFROM:-0400
TZOFFSETTO:-0500
TZNAME:EST
DTSTART:20261101T060000
END:STANDARD
END:VTIMEZONE
BEGIN:VEVENT
DTSTART;TZID=America/New_York:20250613T103000
DTEND;TZID=America/New_York:20250613T130000
DTSTAMP:20260421T135509
CREATED:20250527T201721Z
LAST-MODIFIED:20250528T202505Z
UID:10000042-1749810600-1749819600@www.sustainableprinceton.org
SUMMARY:EcoExperience: FLOCK AND FEAST
DESCRIPTION:Friday\, June 13 \n10:30 am to 1:00 pm \nDiscover wonder with expert birder Peter Reczek\, a former National Audubon Society instructor\, on a guided birdwatching walk through the Institute for Advanced Study woods where Einstein & Oppenheimer once strolled. Peter will help you tune into the rhythms of the forest & the lives of the birds who call it home. Learn how your yard can be a welcoming extension of this hidden ecological gem. \nAfterward\, enjoy a delicious lunch hosted by former SP Board Chair\, Yamile Slebi\, in the exclusive Institute dining hall. \nGet tickets here! \n  \nEcoExperiences are Princeton’s most enjoyable way to support sustainability. Connect with your community\, have a great time\, and discover ways to live more sustainably. All proceeds support Sustainable Princeton’s mission to build a healthier\, more resilient community\, reduce greenhouse gas emissions\, and protect the local environment.
URL:https://www.sustainableprinceton.org/event/ecoexperience-flock-and-feast/
LOCATION:The Institute for Advanced Study
ATTACH;FMTTYPE=image/jpeg:https://www.sustainableprinceton.org/wp-content/uploads/2025/05/pexels-skyler-ewing-266953-16576046-scaled.jpg
ORGANIZER;CN="Sustainable Princeton":MAILTO:info@sustainableprinceton.org
END:VEVENT
BEGIN:VEVENT
DTSTART;TZID=America/New_York:20250613T103000
DTEND;TZID=America/New_York:20250613T130000
DTSTAMP:20260421T135509
CREATED:20250527T201721Z
LAST-MODIFIED:20250527T201721Z
UID:10000089-1749810600-1749819600@www.sustainableprinceton.org
SUMMARY:EcoExperience: FLOCK AND FEAST
DESCRIPTION:Friday\, June 13 \n10:30 am to 1:00 pm \nDiscover wonder with expert birder Peter Reczek\, a former National Audubon Society instructor\, on a guided birdwatching walk through the Institute for Advanced Study woods where Einstein & Oppenheimer once strolled. Peter will help you tune into the rhythms of the forest & the lives of the birds who call it home. Learn how your yard can be a welcoming extension of this hidden ecological gem. \nAfterward\, enjoy a delicious lunch hosted by former SP Board Chair\, Yamile Slebi\, in the exclusive Institute dining hall. \nGet tickets here! \n  \nEcoExperiences are Princeton’s most enjoyable way to support sustainability. Connect with your community\, have a great time\, and discover ways to live more sustainably. All proceeds support Sustainable Princeton’s mission to build a healthier\, more resilient community\, reduce greenhouse gas emissions\, and protect the local environment.
URL:https://www.sustainableprinceton.org/event/ecoexperience-flock-and-feast-2/
LOCATION:The Institute for Advanced Study
ATTACH;FMTTYPE=image/jpeg:https://www.sustainableprinceton.org/wp-content/uploads/2025/05/pexels-skyler-ewing-266953-16576046-scaled.jpg
ORGANIZER;CN="Sustainable Princeton":MAILTO:info@sustainableprinceton.org
END:VEVENT
BEGIN:VEVENT
DTSTART;TZID=America/New_York:20250622T100000
DTEND;TZID=America/New_York:20250622T140000
DTSTAMP:20260421T135509
CREATED:20250422T212906Z
LAST-MODIFIED:20250622T005933Z
UID:10000041-1750586400-1750600800@www.sustainableprinceton.org
SUMMARY:Ciclovia Princeton
DESCRIPTION:Let’s reimagine streets as places for people! \n“Ciclovía” is a Spanish term that means cycleway\, or a temporary closing of streets to automobiles for cyclists and pedestrians. Ciclovia Princeton will temporarily “reimagine” a few roads within town — Walnut Ln from Houghton Rd to Guyot Ave — maximizing this public space with engaging\, all-ages activities that bring us together to socialize\, get creative\, and move freely. \nAlong the route\, you are invited to pick up stretching and mobility tips in free yoga demonstrations\, get moving at a Capoeira workshop\, brush up your skills in a bike safety area\, watch as chalk murals come to life\, and discover moments of live music in motion. There will also be a bike decorating contest\, where we encourage you to use sourced and recycled materials to transform your bikes.  \nTour De Flair bike decorating competitionHosted by the Princeton Recreation CommissionSchedule: 11:45am registration deadline\, 12:00pm for parade and judging\, winner announcements at 1:30pmCategories: Adult ages 14 and up\, youth ages 13 and under\, and Family.Prizes: For each Category\, 1st place 7 day passes to the Community Park Pool\, 2nd place 3 day passes to the pool\, 3rd place 1 day pass to the pool.  \nWalk\, run\, bike\, skate\, roll\, push strollers\, dance\, and enjoy the road at your own pace. However you move\, or whether you simply pull out a lawn chair to take it all in\, participate in whatever way feels good for you\, car-free and care-free. Ciclovia Princeton is presented by Sustainable Princeton and the Arts Council of Princeton\, with support from the Municipality of Princeton.\n															\n															\n																														 \nInterested in becoming a sponsor?\nEmail info@sustainableprinceton.org to learn more or fill out this form!
URL:https://www.sustainableprinceton.org/event/ciclovia-2025/
LOCATION:NJ
ATTACH;FMTTYPE=image/jpeg:https://www.sustainableprinceton.org/wp-content/uploads/2025/04/Ciclovia-Header-1536x864-1.jpg
ORGANIZER;CN="Sustainable Princeton":MAILTO:info@sustainableprinceton.org
END:VEVENT
BEGIN:VEVENT
DTSTART;TZID=America/New_York:20250622T100000
DTEND;TZID=America/New_York:20250622T140000
DTSTAMP:20260421T135509
CREATED:20250422T212906Z
LAST-MODIFIED:20250422T212906Z
UID:10000088-1750586400-1750600800@www.sustainableprinceton.org
SUMMARY:Ciclovia Princeton
DESCRIPTION:Let’s reimagine streets as places for people! \n“Ciclovía” is a Spanish term that means cycleway\, or a temporary closing of streets to automobiles for cyclists and pedestrians. Ciclovia Princeton will temporarily “reimagine” a few roads within town — Walnut Ln from Houghton Rd to Guyot Ave — maximizing this public space with engaging\, all-ages activities that bring us together to socialize\, get creative\, and move freely. \nAlong the route\, you are invited to pick up stretching and mobility tips in free yoga demonstrations\, get moving at a Capoeira workshop\, brush up your skills in a bike safety area\, watch as chalk murals come to life\, and discover moments of live music in motion. There will also be a bike decorating contest\, where we encourage you to use sourced and recycled materials to transform your bikes.  \nTour De Flair bike decorating competitionHosted by the Princeton Recreation CommissionSchedule: 11:45am registration deadline\, 12:00pm for parade and judging\, winner announcements at 1:30pmCategories: Adult ages 14 and up\, youth ages 13 and under\, and Family.Prizes: For each Category\, 1st place 7 day passes to the Community Park Pool\, 2nd place 3 day passes to the pool\, 3rd place 1 day pass to the pool.  \nWalk\, run\, bike\, skate\, roll\, push strollers\, dance\, and enjoy the road at your own pace. However you move\, or whether you simply pull out a lawn chair to take it all in\, participate in whatever way feels good for you\, car-free and care-free. Ciclovia Princeton is presented by Sustainable Princeton and the Arts Council of Princeton\, with support from the Municipality of Princeton.\n															\n															\n																														 \nInterested in becoming a sponsor?\nEmail info@sustainableprinceton.org to learn more or fill out this form!
URL:https://www.sustainableprinceton.org/event/ciclovia-2025-2/
LOCATION:NJ
ATTACH;FMTTYPE=image/jpeg:https://www.sustainableprinceton.org/wp-content/uploads/2025/04/Ciclovia-Header-1536x864-1.jpg
ORGANIZER;CN="Sustainable Princeton":MAILTO:info@sustainableprinceton.org
END:VEVENT
END:VCALENDAR