BEGIN:VCALENDAR
VERSION:2.0
PRODID:-//Sustainable Princeton - ECPv6.15.17//NONSGML v1.0//EN
CALSCALE:GREGORIAN
METHOD:PUBLISH
X-ORIGINAL-URL:https://www.sustainableprinceton.org
X-WR-CALDESC:Events for Sustainable Princeton
REFRESH-INTERVAL;VALUE=DURATION:PT1H
X-Robots-Tag:noindex
X-PUBLISHED-TTL:PT1H
BEGIN:VTIMEZONE
TZID:America/New_York
BEGIN:DAYLIGHT
TZOFFSETFROM:-0500
TZOFFSETTO:-0400
TZNAME:EDT
DTSTART:20240310T070000
END:DAYLIGHT
BEGIN:STANDARD
TZOFFSETFROM:-0400
TZOFFSETTO:-0500
TZNAME:EST
DTSTART:20241103T060000
END:STANDARD
BEGIN:DAYLIGHT
TZOFFSETFROM:-0500
TZOFFSETTO:-0400
TZNAME:EDT
DTSTART:20250309T070000
END:DAYLIGHT
BEGIN:STANDARD
TZOFFSETFROM:-0400
TZOFFSETTO:-0500
TZNAME:EST
DTSTART:20251102T060000
END:STANDARD
BEGIN:DAYLIGHT
TZOFFSETFROM:-0500
TZOFFSETTO:-0400
TZNAME:EDT
DTSTART:20260308T070000
END:DAYLIGHT
BEGIN:STANDARD
TZOFFSETFROM:-0400
TZOFFSETTO:-0500
TZNAME:EST
DTSTART:20261101T060000
END:STANDARD
END:VTIMEZONE
BEGIN:VEVENT
DTSTART;TZID=America/New_York:20250726T160000
DTEND;TZID=America/New_York:20250726T193000
DTSTAMP:20260421T152254
CREATED:20250528T143123Z
LAST-MODIFIED:20250703T201529Z
UID:10000043-1753545600-1753558200@www.sustainableprinceton.org
SUMMARY:EcoExperience: NO WASTE MEETS PLANT-BASED
DESCRIPTION:EVENT POSTPONED! Sign up for our newsletter to get updates for the new date!  \n  \nHosted at the home of a Princeton resident (address given to ticket holders) \n— Savor sustainability and community at an intimate\, plant-based culinary workshop hosted by a Princeton resident in their thoughtfully designed eco-friendly home. Shai Rilov\, CEO and co-founder of the nonprofit Robin Food\, will teach you to cook a zero-waste meal that celebrates the abundance of local ingredients while minimizing environmental impact. The evening will be an outdoor celebration of conscious living\, meaningful connection\, & the delicious possibilities of a low-impact lifestyle. \nGET TICKETS HERE \n— \nEcoExperiences are Princeton’s most enjoyable way to support sustainability. Connect with your community\, have a great time\, and discover ways to live more sustainably. All proceeds support Sustainable Princeton’s mission to build a healthier\, more resilient community\, reduce greenhouse gas emissions\, and protect the local environment.
URL:https://www.sustainableprinceton.org/event/ecoexperience-no-waste-meets-plant-based/
LOCATION:NJ
ATTACH;FMTTYPE=image/png:https://www.sustainableprinceton.org/wp-content/uploads/2025/05/Screenshot-2025-06-18-at-11.41.37 AM.png
END:VEVENT
BEGIN:VEVENT
DTSTART;TZID=America/New_York:20250731T160000
DTEND;TZID=America/New_York:20250731T190000
DTSTAMP:20260421T152254
CREATED:20250715T160309Z
LAST-MODIFIED:20250715T160309Z
UID:10000048-1753977600-1753988400@www.sustainableprinceton.org
SUMMARY:Dine to Donate to SP at Rita's Princeton!
DESCRIPTION:There’s never been a cooler way to donate to SP!\n20% of sales from Ritas at the Princeton Shopping Center will be donated to Sustainable Princeton!\n \nSupport us on: \n July 31st \n4  to 7 pm  \nRita’s at the Princeton Shopping Center \nGo low waste and bring your own reusable spoon!
URL:https://www.sustainableprinceton.org/event/dine-to-donate-to-sp-at-ritas-princeton/
LOCATION:Rita’s Italinan Ice & Custard\, 301 N Harrison St\, Princeton\, New Jersey\, 08540\, United States
ATTACH;FMTTYPE=image/png:https://www.sustainableprinceton.org/wp-content/uploads/2025/07/White-and-Black-Creative-Colorful-Ice-Cream-Food-Promotion-Instagram-Post.png
END:VEVENT
END:VCALENDAR