BEGIN:VCALENDAR
VERSION:2.0
PRODID:-//Sustainable Princeton - ECPv6.15.20//NONSGML v1.0//EN
CALSCALE:GREGORIAN
METHOD:PUBLISH
X-ORIGINAL-URL:https://www.sustainableprinceton.org
X-WR-CALDESC:Events for Sustainable Princeton
REFRESH-INTERVAL;VALUE=DURATION:PT1H
X-Robots-Tag:noindex
X-PUBLISHED-TTL:PT1H
BEGIN:VTIMEZONE
TZID:America/New_York
BEGIN:DAYLIGHT
TZOFFSETFROM:-0500
TZOFFSETTO:-0400
TZNAME:EDT
DTSTART:20240310T070000
END:DAYLIGHT
BEGIN:STANDARD
TZOFFSETFROM:-0400
TZOFFSETTO:-0500
TZNAME:EST
DTSTART:20241103T060000
END:STANDARD
BEGIN:DAYLIGHT
TZOFFSETFROM:-0500
TZOFFSETTO:-0400
TZNAME:EDT
DTSTART:20250309T070000
END:DAYLIGHT
BEGIN:STANDARD
TZOFFSETFROM:-0400
TZOFFSETTO:-0500
TZNAME:EST
DTSTART:20251102T060000
END:STANDARD
BEGIN:DAYLIGHT
TZOFFSETFROM:-0500
TZOFFSETTO:-0400
TZNAME:EDT
DTSTART:20260308T070000
END:DAYLIGHT
BEGIN:STANDARD
TZOFFSETFROM:-0400
TZOFFSETTO:-0500
TZNAME:EST
DTSTART:20261101T060000
END:STANDARD
END:VTIMEZONE
BEGIN:VEVENT
DTSTART;VALUE=DATE:20250901
DTEND;VALUE=DATE:20251001
DTSTAMP:20260424T063551
CREATED:20250828T173437Z
LAST-MODIFIED:20250828T173437Z
UID:10000098-1756684800-1759276799@www.sustainableprinceton.org
SUMMARY:September Dine to Donate to SP at Jammin' Crêpes
DESCRIPTION:Jammin’ Crêpes has partnered with Sustainable Princeton for a “Dine to Donate” fundraiser\, where 25% of sales from September will benefit the SP!\n\nTo participate\, dine at Jammin’ Crêpes from 4 pm to 6 pm in September to support Sustainable Princeton’s mission to reduce our community’s greenhouse gas emissions\, protect the local ecosystem\, and increase resilience to climate change.\n  \n\n\n\n\n\n\n\n\n\n\n\n\nHow it works: \n\n\n\n\n\nVisit Jammin’ Crêpes: any day from 4-6 PM throughout September.\nEnjoy your meal\, knowing that your purchase supports Sustainable Princeton.\n25% of total sales will go directly to SP.
URL:https://www.sustainableprinceton.org/event/september-dine-to-donate-to-sp-at-jammin-crepes/
LOCATION:NJ
ATTACH;FMTTYPE=image/png:https://www.sustainableprinceton.org/wp-content/uploads/2025/08/Screenshot-2025-08-28-at-1.32.33-PM.png
ORGANIZER;CN="Sustainable Princeton":MAILTO:info@sustainableprinceton.org
END:VEVENT
BEGIN:VEVENT
DTSTART;TZID=America/New_York:20250906T160000
DTEND;TZID=America/New_York:20250906T190000
DTSTAMP:20260424T063551
CREATED:20250730T201641Z
LAST-MODIFIED:20250730T201641Z
UID:10000094-1757174400-1757185200@www.sustainableprinceton.org
SUMMARY:Beer & Garden: A sustainable gardening pop-up event featuring Sustainable Princeton and Triumph Brewery
DESCRIPTION:Beer & Garden \nA sustainable gardening pop-up event featuring Sustainable Princeton and Triumph Brewery  \nDate: Saturday\, September 6\, 2025 \nTime: 4:00-7:00 pm \nPrinceton Shopping Center courtyard  \nThis isn’t your average Beer Garden! Join Sustainable Princeton for their first annual Beer & Garden\, an event that aims to bring the community together over local brews from our friends at Triumph Brewery\, live music\, and free educational booths about sustainable landscaping. \nEnjoy music from local band\, Ride or Die\, while learning how to make your garden stunningly sustainable. Explore Sustainable Princeton’s collection of gardening tools from our free Lending Library\, build a leaf corral\, and create native flower seed bombs! There’s something fun for the whole family. \nSponsorship opportunities are available to support our mission.  \nThank you to our sponsors!
URL:https://www.sustainableprinceton.org/event/beer-garden-2025/
LOCATION:Princeton Shopping Center\, 301 N Harrison St\, Princeton\, NJ\, 08540\, United States
ATTACH;FMTTYPE=image/png:https://www.sustainableprinceton.org/wp-content/uploads/2025/07/Beer-Garden.png
END:VEVENT
BEGIN:VEVENT
DTSTART;TZID=America/New_York:20250913T100000
DTEND;TZID=America/New_York:20250913T120000
DTSTAMP:20260424T063551
CREATED:20250528T143555Z
LAST-MODIFIED:20250702T181007Z
UID:10000044-1757757600-1757764800@www.sustainableprinceton.org
SUMMARY:EcoExperience: DRAWN TO NATIVE BOTANICALS
DESCRIPTION:Saturday\, 9/13 (raindate 9/14) \nTime: 10 am to 12 pm \nHosted in a private home (address to be given to ticket holders) \n— Immerse yourself in the artistry of nature at a serene garden gathering in a lush backyard oasis in Princeton. Surrounded by vibrant native blooms cultivated by a local Master Gardener\, you’ll be guided by artist Becca Goldman in a hands-on plant sketching session. All levels welcome! This tranquil afternoon invites you to slow down\, observe\, & connect deeply with the natural world\, all while supporting Sustainable Princeton’s mission. \nGET TICKETS HERE \n— \n\nEcoExperiences are Princeton’s most enjoyable way to support sustainability. Connect with your community\, have a great time\, and discover ways to live more sustainably. All proceeds support Sustainable Princeton’s mission to build a healthier\, more resilient community\, reduce greenhouse gas emissions\, and protect the local environment.
URL:https://www.sustainableprinceton.org/event/ecoexperience-drawn-to-native-botanicals/
LOCATION:NJ
ATTACH;FMTTYPE=image/jpeg:https://www.sustainableprinceton.org/wp-content/uploads/2024/05/MPR-flowers-1.jpg
END:VEVENT
BEGIN:VEVENT
DTSTART;TZID=America/New_York:20250913T100000
DTEND;TZID=America/New_York:20250913T120000
DTSTAMP:20260424T063551
CREATED:20250528T143555Z
LAST-MODIFIED:20250528T143555Z
UID:10000090-1757757600-1757764800@www.sustainableprinceton.org
SUMMARY:EcoExperience: DRAWN TO NATIVE BOTANICALS
DESCRIPTION:Saturday\, 9/13 (raindate 9/14) \nTime: 10 am to 12 pm \nHosted in a private home (address to be given to ticket holders) \n— Immerse yourself in the artistry of nature at a serene garden gathering in a lush backyard oasis in Princeton. Surrounded by vibrant native blooms cultivated by a local Master Gardener\, you’ll be guided by artist Becca Goldman in a hands-on plant sketching session. All levels welcome! This tranquil afternoon invites you to slow down\, observe\, & connect deeply with the natural world\, all while supporting Sustainable Princeton’s mission. \nGET TICKETS HERE \n— \n\nEcoExperiences are Princeton’s most enjoyable way to support sustainability. Connect with your community\, have a great time\, and discover ways to live more sustainably. All proceeds support Sustainable Princeton’s mission to build a healthier\, more resilient community\, reduce greenhouse gas emissions\, and protect the local environment.
URL:https://www.sustainableprinceton.org/event/ecoexperience-drawn-to-native-botanicals-2/
LOCATION:NJ
ATTACH;FMTTYPE=image/jpeg:https://www.sustainableprinceton.org/wp-content/uploads/2024/05/MPR-flowers-1.jpg
END:VEVENT
BEGIN:VEVENT
DTSTART;TZID=America/New_York:20250918T190000
DTEND;TZID=America/New_York:20250918T200000
DTSTAMP:20260424T063551
CREATED:20250805T181009Z
LAST-MODIFIED:20250805T181009Z
UID:10000095-1758222000-1758225600@www.sustainableprinceton.org
SUMMARY:Author Talk: Henry Grabar on "Paved Paradise"
DESCRIPTION:What would you do for a great parking spot? \nHenry Grabar will explore how the pursuit of the perfect parking space has forced us to sacrifice affordable housing\, attractive architecture\, walkable neighborhoods\, and lively town centers in favor of congestion\, sprawl\, and waste\, weaving the parking fixation into the history of the postwar American city. He will also discuss his reporting on how cities and towns across the country are beginning to challenge this legacy of 20th-century car culture\, with surprising results. You’ll never look at a parking space the same way again. \nAbout the Book (from the publisher): \nParking\, quite literally\, has a death grip on America: each year a shocking number of Americans kill one another over parking spots\, and we routinely do ri­diculous things for parking\, contorting our professional\, social\, and financial lives to get a spot. Since the advent of the car\, we have deformed our cities in a Sisyphean quest for car storage\, and as a result\, much of the nation’s most valuable real estate is now devoted to empty vehicles. Parking determines the design of new buildings and the fate of old ones\, traffic patterns and the viability of transit\, neighborhood politics and municipal finance\, and the overall quality of public space. Is this really the best use of our finite resources? Is parking really more important than everything else? \nIn a beguiling and absurdly hilarious mix of history\, politics\, and reportage\, Slate staff writer Henry Grabar brilliantly surveys the nation’s parking crisis\, revealing how the compulsion for car storage has exacerbated some of our most acute problems— from housing affordability to the accelerating global climate disaster—and\, ultimately\, how we can free our cities from park­ing’s cruel yoke. \nAbout the Speaker: \nHenry Grabar is a staff writer at Slate where he writes the Metropolis column\, with a focus on housing\, transportation\, and the environment. His work has also been published in Architect\, the Atlantic\, the Guardian\, Harper’s\, the New York Times\, the Wall Street Journal\, and other outlets\, and he has produced podcasts for Decoder Ring\, 99 Percent Invisible\, and What Next. He was the editor of The Future of Transportation anthology (Metropolis Books\, 2019)\, and was the author of Paved Paradise: How Parking Explains the World (Penguin Press\, 2023)\, which was named a best book of the year by the New Yorker and the New Republic. \nPresented in Partnership with Princeton Public Library and Walk Bike Princeton \nRegistration requested with the Princeton Public Library
URL:https://www.sustainableprinceton.org/event/author-talk-henry-grabar-on-paved-paradise/
LOCATION:Princeton Public Library\, 65 Witherspoon\, Princeton\, NJ\, 08542\, United States
ATTACH;FMTTYPE=image/jpeg:https://www.sustainableprinceton.org/wp-content/uploads/2025/08/grabar-paved.jpg
END:VEVENT
BEGIN:VEVENT
DTSTART;TZID=America/New_York:20250925T190000
DTEND;TZID=America/New_York:20250925T203000
DTSTAMP:20260424T063551
CREATED:20250703T152156Z
LAST-MODIFIED:20250703T153645Z
UID:10000045-1758826800-1758832200@www.sustainableprinceton.org
SUMMARY:2025 Green House Tour Video Screening and Discussion Panel
DESCRIPTION:The Princeton Green House Tour is back for 2025! \nSave the date for the Princeton Public Library event on September 25th at 7 PM! Three new house tour videos will be screened followed by a discussion panel. \nIn person tours will be held on September 27th. \nPresented in partnership with the Princeton Environmental Commission and Princeton Public Library.
URL:https://www.sustainableprinceton.org/event/2025-green-house-tour-video-screening-and-discussion-panel/
LOCATION:Princeton Public Library\, 65 Witherspoon\, Princeton\, NJ\, 08542\, United States
ATTACH;FMTTYPE=image/png:https://www.sustainableprinceton.org/wp-content/uploads/2025/07/SustainAbeleigh-2.png
END:VEVENT
BEGIN:VEVENT
DTSTART;TZID=America/New_York:20250925T190000
DTEND;TZID=America/New_York:20250925T203000
DTSTAMP:20260424T063551
CREATED:20250703T152156Z
LAST-MODIFIED:20250703T152156Z
UID:10000091-1758826800-1758832200@www.sustainableprinceton.org
SUMMARY:2025 Green House Tour Video Screening and Discussion Panel
DESCRIPTION:The Princeton Green House Tour is back for 2025! \nSave the date for the Princeton Public Library event on September 25th at 7 PM! Three new house tour videos will be screened followed by a discussion panel with homeowners and experts. Registration requested here! \nIn person tours will be held on September 27th. \nPresented in partnership with the Princeton Environmental Commission and Princeton Public Library.
URL:https://www.sustainableprinceton.org/event/2025-green-house-tour-video-screening-and-discussion-panel-2/
LOCATION:Princeton Public Library\, 65 Witherspoon\, Princeton\, NJ\, 08542\, United States
ATTACH;FMTTYPE=image/png:https://www.sustainableprinceton.org/wp-content/uploads/2025/07/SustainAbeleigh-2.png
END:VEVENT
BEGIN:VEVENT
DTSTART;TZID=America/New_York:20250927T100000
DTEND;TZID=America/New_York:20250927T170000
DTSTAMP:20260424T063551
CREATED:20250703T152646Z
LAST-MODIFIED:20250703T153531Z
UID:10000046-1758967200-1758992400@www.sustainableprinceton.org
SUMMARY:2025 In-Person Green House Tours
DESCRIPTION:The Princeton Green House Tour is back for 2025! \nSave the date for the in-person event on September 27th! Seven houses will be featured along with new garden tours. Check the event website for more details. \nThe Princeton Public Library lobby will be the headquarters for this event if you have any questions. \nPresented in partnership with the Princeton Environmental Commission and Princeton Public Library.
URL:https://www.sustainableprinceton.org/event/2025-in-person-green-house-tours/
LOCATION:NJ
ATTACH;FMTTYPE=image/png:https://www.sustainableprinceton.org/wp-content/uploads/2025/07/SustainAbeleigh-2.png
END:VEVENT
BEGIN:VEVENT
DTSTART;TZID=America/New_York:20250927T100000
DTEND;TZID=America/New_York:20250927T170000
DTSTAMP:20260424T063551
CREATED:20250703T152646Z
LAST-MODIFIED:20250703T152646Z
UID:10000092-1758967200-1758992400@www.sustainableprinceton.org
SUMMARY:2025 In-Person Green House Tours
DESCRIPTION:The Princeton Green House Tour is back for 2025! \nSave the date for the in-person house tour event on September 27th! Seven houses will be featured along with 4 new garden tours. Check the event website for more details. \nThe Princeton Public Library lobby will be the headquarters for this event if you have any questions. \nHouse Tours\nSustainAbeLeigh Historic\n																														 \nAbe’s fully electric renovation respects the home’s historic roots while incorporating a wide array of sustainable upgrades. \n\nAir-source heat pump\nSolar panels\nInduction cooktop\nGas utility disconnection\nSustainable building materials\nRain Garden\n\nLittle Blue ADU\n																														 \nA fully electric ADU that integrates solar\, composting\, and rainwater features in a small footprint. \n\nSolar panels\nAir-source heat pump\nRain garden\nRain barrel\nComposting\nOn-demand hot water\n\nMrs. Brown’s Lucky Oyster Bar\n																														 \nAn energy-efficient renovation using sustainable materials and advanced mechanical systems for comfort and efficiency. \n\nAir-source heat pump\nRain garden\nSustainable building materials\nSuperior insulation\nEnergy recovery ventilator (ERV)\n\nHillier House\n																														 \nHillier HouseA modern\, fully electrified home featuring a green roof for energy efficiency and ecological impact. \n\nInduction cooktop\nGround source heat pump\nHeat pump water heater\nSolar panels\nGreen roof\n\nAdorable Dempsey Unit (ADU)\n																														 \nDesigned for comfort and sustainability\, this compact cottage offers efficient systems and garden connectivity for aging in place. \n\nSuperior insulation\nAir-source heat pump\nHeat pump water heater\nEnergy recovery ventilator (ERV)\nTriple-pane doors\nDurable\, low-maintenance exterior\n\nCool on Cuyler\n																														 \nAn all-electric home that blends reclaimed materials with Passive House-level airtightness and modern efficiency. \n\nContinuous exterior insulation (ACH 0.44)\nTriple-pane windows and doors\nHeat pump water heater\nInduction cooktop\nHigh R-value wall and roof assemblies\nEnergy Star & Indoor airPLUS certified\n\nRadically Radiant\n																														 \nThis high-performance retrofit features radiant floor heating and cooling with ground source energy and passive solar design. \n\nRadiant heating/cooling floor\nGround source heat pump\nPassive solar design\nThermal energy storage\nSustainable building materials\n\nGarden Tours\nPollinator Paradise\n																														 \nA compact garden that nurtures native species and pollinators while producing food. \n\nVegetable garden\nNative plants\nPollinator-friendly\nMaximizes impact in small space\n\nGreen Garden Green Roof\n																														 \nA multi-functional garden space combining stormwater management\, habitat support\, and edible planting and green roof. \n\nGreen roof\nRain garden\nEdible garden \n\nLivestreaming Yard\n																														 \nA yard designed with stormwater management and native plants in mind. The owner writes a blog\, and helped create the Botanical Art Garden (Barden) at Herrontown Woods\, with 160 native plant species. \n\nStormwater management features\nNative plants\nLeaf coral\n\nKing of Compost\n																														 \nA garden focused on closing the loop with composting and water management. \n\nRain garden\nCompost \n\nPresented in partnership with the Princeton Environmental Commission and the Princeton Public Library 
URL:https://www.sustainableprinceton.org/event/2025-in-person-green-house-tours-2/
LOCATION:NJ
ATTACH;FMTTYPE=image/png:https://www.sustainableprinceton.org/wp-content/uploads/2025/07/SustainAbeleigh-2.png
END:VEVENT
END:VCALENDAR